BEGIN:VCALENDAR
VERSION:2.0
PRODID:-//Quebec Writers&#039; Federation - ECPv6.15.20//NONSGML v1.0//EN
CALSCALE:GREGORIAN
METHOD:PUBLISH
X-ORIGINAL-URL:https://qwf.org
X-WR-CALDESC:Events for Quebec Writers&#039; Federation
REFRESH-INTERVAL;VALUE=DURATION:PT1H
X-Robots-Tag:noindex
X-PUBLISHED-TTL:PT1H
BEGIN:VTIMEZONE
TZID:America/New_York
BEGIN:DAYLIGHT
TZOFFSETFROM:-0500
TZOFFSETTO:-0400
TZNAME:EDT
DTSTART:20190310T070000
END:DAYLIGHT
BEGIN:STANDARD
TZOFFSETFROM:-0400
TZOFFSETTO:-0500
TZNAME:EST
DTSTART:20191103T060000
END:STANDARD
BEGIN:DAYLIGHT
TZOFFSETFROM:-0500
TZOFFSETTO:-0400
TZNAME:EDT
DTSTART:20200308T070000
END:DAYLIGHT
BEGIN:STANDARD
TZOFFSETFROM:-0400
TZOFFSETTO:-0500
TZNAME:EST
DTSTART:20201101T060000
END:STANDARD
BEGIN:DAYLIGHT
TZOFFSETFROM:-0500
TZOFFSETTO:-0400
TZNAME:EDT
DTSTART:20210314T070000
END:DAYLIGHT
BEGIN:STANDARD
TZOFFSETFROM:-0400
TZOFFSETTO:-0500
TZNAME:EST
DTSTART:20211107T060000
END:STANDARD
END:VTIMEZONE
BEGIN:VEVENT
DTSTART;TZID=America/New_York:20201109T180000
DTEND;TZID=America/New_York:20201109T200000
DTSTAMP:20260424T014829
CREATED:20200820T162106Z
LAST-MODIFIED:20200827T161527Z
UID:10002283-1604944800-1604952000@qwf.org
SUMMARY:Writing About Controversial Topics: Nonfiction
DESCRIPTION:Workshop description TBA!
URL:https://qwf.org/event/writing-about-controversial-topics-nonfiction/2020-11-09/
LOCATION:Online via Zoom
CATEGORIES:QWF Workshops,Workshops
ATTACH;FMTTYPE=image/jpeg:https://qwf.org/wp-content/uploads/2020/08/Rosen-headshot-scaled.jpg
END:VEVENT
BEGIN:VEVENT
DTSTART;TZID=America/New_York:20201109T190000
DTEND;TZID=America/New_York:20201109T203000
DTSTAMP:20260424T014829
CREATED:20201024T172323Z
LAST-MODIFIED:20201024T172323Z
UID:10002419-1604948400-1604953800@qwf.org
SUMMARY:Carmen Maria Machado and Silvia Moreno-Garcia double launch
DESCRIPTION:Join us for a virtual launch for Carmen Maria Machado and Silvia Moreno-Garcia! \nPurchase a copy of The Low Low Woods\, In The Dream House\, or Mexican Gothic to receive access to this exclusive virtual event. \nAlready purchased one of these books from us and want to join? Email events@drawnandquarterly.com \nWhere and how can I purchase the books?\nWhy our webstore of course… We’ve got signed copies & we ship Canada-wide!\nhttp://mtl.drawnandquarterly.com/posts/webstore-faq \nBy purchasing your book at Librairie Drawn & Quarterly you help support events like this one\, independent publishing and retailing\, our neighborhood\, and authors both local and from around the world who depend on independent bookstores for their livelihood. Your support is appreciated.
URL:https://qwf.org/event/carmen-maria-machado-and-silvia-moreno-garcia-double-launch/
LOCATION:Online
CATEGORIES:Book Launch,Community Events
ATTACH;FMTTYPE=image/jpeg:https://qwf.org/wp-content/uploads/2020/10/carmenSilvia.jpg
END:VEVENT
BEGIN:VEVENT
DTSTART;TZID=America/New_York:20201109T200000
DTEND;TZID=America/New_York:20201109T220000
DTSTAMP:20260424T014829
CREATED:20200824T161429Z
LAST-MODIFIED:20200827T161916Z
UID:10002294-1604952000-1604959200@qwf.org
SUMMARY:Remembering: The Art and Craft of Memoir
DESCRIPTION:Workshop description TBA!
URL:https://qwf.org/event/remembering-the-art-and-craft-of-memoir/2020-11-09/
LOCATION:Online via Zoom
CATEGORIES:QWF Workshops,Workshops
END:VEVENT
END:VCALENDAR