BEGIN:VCALENDAR
VERSION:2.0
PRODID:-//Quebec Writers&#039; Federation - ECPv6.15.20//NONSGML v1.0//EN
CALSCALE:GREGORIAN
METHOD:PUBLISH
X-ORIGINAL-URL:https://qwf.org
X-WR-CALDESC:Events for Quebec Writers&#039; Federation
REFRESH-INTERVAL;VALUE=DURATION:PT1H
X-Robots-Tag:noindex
X-PUBLISHED-TTL:PT1H
BEGIN:VTIMEZONE
TZID:America/New_York
BEGIN:DAYLIGHT
TZOFFSETFROM:-0500
TZOFFSETTO:-0400
TZNAME:EDT
DTSTART:20200308T070000
END:DAYLIGHT
BEGIN:STANDARD
TZOFFSETFROM:-0400
TZOFFSETTO:-0500
TZNAME:EST
DTSTART:20201101T060000
END:STANDARD
BEGIN:DAYLIGHT
TZOFFSETFROM:-0500
TZOFFSETTO:-0400
TZNAME:EDT
DTSTART:20210314T070000
END:DAYLIGHT
BEGIN:STANDARD
TZOFFSETFROM:-0400
TZOFFSETTO:-0500
TZNAME:EST
DTSTART:20211107T060000
END:STANDARD
BEGIN:DAYLIGHT
TZOFFSETFROM:-0500
TZOFFSETTO:-0400
TZNAME:EDT
DTSTART:20220313T070000
END:DAYLIGHT
BEGIN:STANDARD
TZOFFSETFROM:-0400
TZOFFSETTO:-0500
TZNAME:EST
DTSTART:20221106T060000
END:STANDARD
END:VTIMEZONE
BEGIN:VEVENT
DTSTART;TZID=America/New_York:20210309T200000
DTEND;TZID=America/New_York:20210309T213000
DTSTAMP:20260422T133247
CREATED:20210201T165024Z
LAST-MODIFIED:20210201T165024Z
UID:10002546-1615320000-1615325400@qwf.org
SUMMARY:Strange Futures Book Club: Future Home of the Living God
DESCRIPTION:The Strange Futures book club focuses on sci-fi and speculative fiction by QT/BIPOC writers. “Strange Futures” speaks to the unknown worlds that are to come–but also to the strangeness that is ascribed to marginalized voices\, and how such strangeness can actually be generative\, challenging\, discomforting\, and revolutionary. Hosted by Helen Chau Bradley\, the book club meetings take place every two months\, and are open to the public. \nFor our next meeting\, on Tuesday\, March 9th @ 8 PM\, we’ll assemble virtually online to discuss FUTURE HOME OF THE LIVING GOD by Louise Erdrich. Join us for the discussion! \nWhere and How Can I purchase the book?\nFind the book here: https://bit.ly/3op1nHN \nMore info on our webstore here:\nhttp://mtl.drawnandquarterly.com/posts/webstore-faq \nWe Ship Canada-wide!\nBy purchasing your book at Librairie Drawn & Quarterly you help support events like this one\, independent publishing and retailing\, our neighborhood\, and authors both local and from around the world who depend on independent bookstores for their livelihood. Your support is appreciated.
URL:https://qwf.org/event/strange-futures-book-club-future-home-of-the-living-god/
LOCATION:Online via Zoom
CATEGORIES:Book Club
ATTACH;FMTTYPE=image/jpeg:https://qwf.org/wp-content/uploads/2021/01/livingGodBanner.jpg
END:VEVENT
BEGIN:VEVENT
DTSTART;TZID=America/New_York:20210309T200000
DTEND;TZID=America/New_York:20210309T220000
DTSTAMP:20260422T133247
CREATED:20201212T032204Z
LAST-MODIFIED:20201217T160231Z
UID:10002450-1615320000-1615327200@qwf.org
SUMMARY:Beginnings\, Openings\, Origins: A Poetry Workshop
DESCRIPTION:Workshop details TBA!
URL:https://qwf.org/event/beginnings-openings-origins-a-poetry-workshop/2021-03-09/
LOCATION:Online via Zoom
CATEGORIES:QWF Workshops,Workshops
END:VEVENT
END:VCALENDAR