BEGIN:VCALENDAR
VERSION:2.0
PRODID:-//Quebec Writers&#039; Federation - ECPv6.15.20//NONSGML v1.0//EN
CALSCALE:GREGORIAN
METHOD:PUBLISH
X-WR-CALNAME:Quebec Writers&#039; Federation
X-ORIGINAL-URL:https://qwf.org
X-WR-CALDESC:Events for Quebec Writers&#039; Federation
REFRESH-INTERVAL;VALUE=DURATION:PT1H
X-Robots-Tag:noindex
X-PUBLISHED-TTL:PT1H
BEGIN:VTIMEZONE
TZID:America/New_York
BEGIN:DAYLIGHT
TZOFFSETFROM:-0500
TZOFFSETTO:-0400
TZNAME:EDT
DTSTART:20200308T070000
END:DAYLIGHT
BEGIN:STANDARD
TZOFFSETFROM:-0400
TZOFFSETTO:-0500
TZNAME:EST
DTSTART:20201101T060000
END:STANDARD
BEGIN:DAYLIGHT
TZOFFSETFROM:-0500
TZOFFSETTO:-0400
TZNAME:EDT
DTSTART:20210314T070000
END:DAYLIGHT
BEGIN:STANDARD
TZOFFSETFROM:-0400
TZOFFSETTO:-0500
TZNAME:EST
DTSTART:20211107T060000
END:STANDARD
BEGIN:DAYLIGHT
TZOFFSETFROM:-0500
TZOFFSETTO:-0400
TZNAME:EDT
DTSTART:20220313T070000
END:DAYLIGHT
BEGIN:STANDARD
TZOFFSETFROM:-0400
TZOFFSETTO:-0500
TZNAME:EST
DTSTART:20221106T060000
END:STANDARD
END:VTIMEZONE
BEGIN:VEVENT
DTSTART;TZID=America/New_York:20210310T133000
DTEND;TZID=America/New_York:20210310T150000
DTSTAMP:20260424T005108
CREATED:20201215T182923Z
LAST-MODIFIED:20201217T162706Z
UID:10002516-1615383000-1615388400@qwf.org
SUMMARY:Reflective Writing: A Workshop on Cross-Cultural Writing
DESCRIPTION:Please note this workshop will take place over two sessions: \n\nSession 1: Wednesday\, March 10\, 2021 @ 1:30-3:00 p.m.\nSession 2: Tuesday\, March 16\, 2021 @ 1:30-3:00 p.m.\n\n\n\n\nThis online workshop is being produced in partnership with the Atwater Writers Exhibition. \n\n\n\nAll are welcome. \n\n\n\nLimited to 15 participants. \n===================== \n\n\n\nHow do you create characters and situations that have a ring of truth to them when the stories you want to tell are not from your own background or culture? \n\n\n\nThis workshop will give participants a deeper knowledge about the pros and cons of cross-cultural writing and a chance to hear established writers talk about their own experiences with and advice about writing about peoples of other cultures and realities. Participants will be able to access a blog with workshop materials including videotaped interviews and writing examples. The blog will also provide a platform for participants to discuss issues both during and between the workshop sessions and to post writings of their own for feedback. \n\n\n\nAll you need to bring is curiosity and a sense of exploration. \n\n\n\nRegistration\n\n\n\nThis is a FREE workshop. To register\, please click here to email Elise Moser. \n====================== \nPhoto: Watsenniostha Valerie David\nDan David says he’s won several awards for feature writing and essays but the one he cherishes the most is for “best storyteller.” He’s a former construction worker\, broadcast journalist\, magazine writer\, and world traveller based (for now) at Kanehsatake Mohawk Territory\, near Oka.
URL:https://qwf.org/event/reflective-writing-a-workshop-on-cross-cultural-writing-2/2021-03-10/
LOCATION:Online via Zoom
CATEGORIES:QWF Workshops,Series,Workshops
ATTACH;FMTTYPE=image/png:https://qwf.org/wp-content/uploads/2020/12/Reflective-Writing_Dan-David.png
END:VEVENT
BEGIN:VEVENT
DTSTART;TZID=America/New_York:20210310T180000
DTEND;TZID=America/New_York:20210310T200000
DTSTAMP:20260424T005108
CREATED:20201212T033440Z
LAST-MODIFIED:20201217T160220Z
UID:10002458-1615399200-1615406400@qwf.org
SUMMARY:Telling Tales: Long-form Journalism for Mainstream Media
DESCRIPTION:Workshop details TBA!
URL:https://qwf.org/event/telling-tales-long-form-journalism-for-mainstream-media/2021-03-10/
LOCATION:Online via Zoom
CATEGORIES:QWF Workshops,Workshops
END:VEVENT
BEGIN:VEVENT
DTSTART;TZID=America/New_York:20210310T190000
DTEND;TZID=America/New_York:20210310T203000
DTSTAMP:20260424T005108
CREATED:20210305T182825Z
LAST-MODIFIED:20210305T182848Z
UID:10002571-1615402800-1615408200@qwf.org
SUMMARY:DEAR BLACK GIRLS: A roundtable w/ Shanice Nicole\, Kezna Dalz\, Maguy Métellus & Nantali Indongo
DESCRIPTION:In celebration of the newly released picture book DEAR BLACK GIRLS (Metonymy Press 2021)\, join Montreal artists and community members Shanice Nicole\, Kezna Dalz\, Maguy Métellus\, and Nantali Indongo for an intergenerational roundtable discussion. \nThis is a free online event in collaboration with Librairie Racines. \nZoom and FB Live links to come. Closed-captioning will be provided. \nOrder your copy of the book from Racines here: https://tinyurl.com/y4dte2v4
URL:https://qwf.org/event/dear-black-girls-a-roundtable-w-shanice-nicole-kezna-dalz-maguy-metellus-nantali-indongo/
LOCATION:Online via Zoom
CATEGORIES:Book Launch
ATTACH;FMTTYPE=image/jpeg:https://qwf.org/wp-content/uploads/2021/03/dbg-fb-event-banner.jpg
ORGANIZER;CN="Metonymy Press":MAILTO:publish@metonymypress.com
END:VEVENT
BEGIN:VEVENT
DTSTART;TZID=America/New_York:20210310T200000
DTEND;TZID=America/New_York:20210310T220000
DTSTAMP:20260424T005108
CREATED:20201212T034715Z
LAST-MODIFIED:20201217T160109Z
UID:10002466-1615406400-1615413600@qwf.org
SUMMARY:Fiction: Reconstructions of Reality
DESCRIPTION:Workshop details TBA!
URL:https://qwf.org/event/fiction-reconstructions-of-reality/2021-03-10/
LOCATION:Online via Zoom
CATEGORIES:QWF Workshops,Workshops
END:VEVENT
END:VCALENDAR