BEGIN:VCALENDAR
VERSION:2.0
PRODID:-//Quebec Writers&#039; Federation - ECPv6.15.20//NONSGML v1.0//EN
CALSCALE:GREGORIAN
METHOD:PUBLISH
X-WR-CALNAME:Quebec Writers&#039; Federation
X-ORIGINAL-URL:https://qwf.org
X-WR-CALDESC:Events for Quebec Writers&#039; Federation
REFRESH-INTERVAL;VALUE=DURATION:PT1H
X-Robots-Tag:noindex
X-PUBLISHED-TTL:PT1H
BEGIN:VTIMEZONE
TZID:America/New_York
BEGIN:DAYLIGHT
TZOFFSETFROM:-0500
TZOFFSETTO:-0400
TZNAME:EDT
DTSTART:20200308T070000
END:DAYLIGHT
BEGIN:STANDARD
TZOFFSETFROM:-0400
TZOFFSETTO:-0500
TZNAME:EST
DTSTART:20201101T060000
END:STANDARD
BEGIN:DAYLIGHT
TZOFFSETFROM:-0500
TZOFFSETTO:-0400
TZNAME:EDT
DTSTART:20210314T070000
END:DAYLIGHT
BEGIN:STANDARD
TZOFFSETFROM:-0400
TZOFFSETTO:-0500
TZNAME:EST
DTSTART:20211107T060000
END:STANDARD
BEGIN:DAYLIGHT
TZOFFSETFROM:-0500
TZOFFSETTO:-0400
TZNAME:EDT
DTSTART:20220313T070000
END:DAYLIGHT
BEGIN:STANDARD
TZOFFSETFROM:-0400
TZOFFSETTO:-0500
TZNAME:EST
DTSTART:20221106T060000
END:STANDARD
END:VTIMEZONE
BEGIN:VEVENT
DTSTART;TZID=America/New_York:20210316T133000
DTEND;TZID=America/New_York:20210316T150000
DTSTAMP:20260421T020608
CREATED:20201215T182923Z
LAST-MODIFIED:20201217T162706Z
UID:10002517-1615901400-1615906800@qwf.org
SUMMARY:Reflective Writing: A Workshop on Cross-Cultural Writing
DESCRIPTION:Please note this workshop will take place over two sessions: \n\nSession 1: Wednesday\, March 10\, 2021 @ 1:30-3:00 p.m.\nSession 2: Tuesday\, March 16\, 2021 @ 1:30-3:00 p.m.\n\n\n\n\nThis online workshop is being produced in partnership with the Atwater Writers Exhibition. \n\n\n\nAll are welcome. \n\n\n\nLimited to 15 participants. \n===================== \n\n\n\nHow do you create characters and situations that have a ring of truth to them when the stories you want to tell are not from your own background or culture? \n\n\n\nThis workshop will give participants a deeper knowledge about the pros and cons of cross-cultural writing and a chance to hear established writers talk about their own experiences with and advice about writing about peoples of other cultures and realities. Participants will be able to access a blog with workshop materials including videotaped interviews and writing examples. The blog will also provide a platform for participants to discuss issues both during and between the workshop sessions and to post writings of their own for feedback. \n\n\n\nAll you need to bring is curiosity and a sense of exploration. \n\n\n\nRegistration\n\n\n\nThis is a FREE workshop. To register\, please click here to email Elise Moser. \n====================== \nPhoto: Watsenniostha Valerie David\nDan David says he’s won several awards for feature writing and essays but the one he cherishes the most is for “best storyteller.” He’s a former construction worker\, broadcast journalist\, magazine writer\, and world traveller based (for now) at Kanehsatake Mohawk Territory\, near Oka.
URL:https://qwf.org/event/reflective-writing-a-workshop-on-cross-cultural-writing-2/2021-03-16/
LOCATION:Online via Zoom
CATEGORIES:QWF Workshops,Series,Workshops
ATTACH;FMTTYPE=image/png:https://qwf.org/wp-content/uploads/2020/12/Reflective-Writing_Dan-David.png
END:VEVENT
BEGIN:VEVENT
DTSTART;TZID=America/New_York:20210316T180000
DTEND;TZID=America/New_York:20210316T200000
DTSTAMP:20260421T020608
CREATED:20201214T173356Z
LAST-MODIFIED:20210312T170010Z
UID:10002499-1615917600-1615924800@qwf.org
SUMMARY:Research and Creation
DESCRIPTION:Open to all. \nLimited to 12 participants. \nWhich comes first\, the research or the writing? For many works of fiction and non-fiction\, research is an ongoing process with potentially different goals and outcomes depending on where it occurs during the project. \nThis workshop is for writers who do not necessarily consider themselves to be academics\, but who wish to engage in research as part of their creative works for the sake of accuracy and authenticity\, and perhaps also to transcend the constraints of what is recognized as possible. \nParticipants will be introduced to the different forms of research-creation\, as well as how to evaluate resources. They will also be presented with scenarios where it may be impossible to confirm a claim\, as well as situations where a writer may make the informed choice to work outside of established facts.
URL:https://qwf.org/event/research-and-creation/
LOCATION:Online via Zoom
CATEGORIES:QWF Workshops,Workshops
END:VEVENT
BEGIN:VEVENT
DTSTART;TZID=America/New_York:20210316T200000
DTEND;TZID=America/New_York:20210316T220000
DTSTAMP:20260421T020608
CREATED:20201212T032204Z
LAST-MODIFIED:20201217T160231Z
UID:10002451-1615924800-1615932000@qwf.org
SUMMARY:Beginnings\, Openings\, Origins: A Poetry Workshop
DESCRIPTION:Workshop details TBA!
URL:https://qwf.org/event/beginnings-openings-origins-a-poetry-workshop/2021-03-16/
LOCATION:Online via Zoom
CATEGORIES:QWF Workshops,Workshops
END:VEVENT
END:VCALENDAR