BEGIN:VCALENDAR
VERSION:2.0
PRODID:-//Quebec Writers&#039; Federation - ECPv6.15.20//NONSGML v1.0//EN
CALSCALE:GREGORIAN
METHOD:PUBLISH
X-ORIGINAL-URL:https://qwf.org
X-WR-CALDESC:Events for Quebec Writers&#039; Federation
REFRESH-INTERVAL;VALUE=DURATION:PT1H
X-Robots-Tag:noindex
X-PUBLISHED-TTL:PT1H
BEGIN:VTIMEZONE
TZID:America/New_York
BEGIN:DAYLIGHT
TZOFFSETFROM:-0500
TZOFFSETTO:-0400
TZNAME:EDT
DTSTART:20200308T070000
END:DAYLIGHT
BEGIN:STANDARD
TZOFFSETFROM:-0400
TZOFFSETTO:-0500
TZNAME:EST
DTSTART:20201101T060000
END:STANDARD
BEGIN:DAYLIGHT
TZOFFSETFROM:-0500
TZOFFSETTO:-0400
TZNAME:EDT
DTSTART:20210314T070000
END:DAYLIGHT
BEGIN:STANDARD
TZOFFSETFROM:-0400
TZOFFSETTO:-0500
TZNAME:EST
DTSTART:20211107T060000
END:STANDARD
BEGIN:DAYLIGHT
TZOFFSETFROM:-0500
TZOFFSETTO:-0400
TZNAME:EDT
DTSTART:20220313T070000
END:DAYLIGHT
BEGIN:STANDARD
TZOFFSETFROM:-0400
TZOFFSETTO:-0500
TZNAME:EST
DTSTART:20221106T060000
END:STANDARD
END:VTIMEZONE
BEGIN:VEVENT
DTSTART;TZID=America/New_York:20210321T100000
DTEND;TZID=America/New_York:20210321T120000
DTSTAMP:20260421T094808
CREATED:20210315T192507Z
LAST-MODIFIED:20210316T142456Z
UID:10002587-1616320800-1616328000@qwf.org
SUMMARY:PIWWC Global Poetry Zoom: Free the Word!
DESCRIPTION:You are invited to a GLOBAL POETRY Zoom!!\n\nWhen: Mar 21\, 2021 10:00 AM Montreal\n\nPIWWC Global Poetry Zoom: Free the Word!\nEmpowering Women’s Voices:\nPoems of Celebration\, Solidarity & Longing!\n\nPlease Register in Advance for this Webinar:\nhttps://us02web.zoom.us/…/reg…/WN_1m1tsRQiQBeC5vFq_k3uLw\nAfter registering\, you will receive a confirmation email containing information about joining the webinar.\nThank you!!! See you HERE!!!!
URL:https://qwf.org/event/piwwc-global-poetry-zoom-free-the-word/
LOCATION:Online via Zoom
CATEGORIES:Community Events,Performance
ATTACH;FMTTYPE=image/png:https://qwf.org/wp-content/uploads/2021/03/Empowering-Womens-Voices-Poetry-Zoom.png
ORGANIZER;CN="PEN International Women Writers Committee":MAILTO:info@piwwc.org
END:VEVENT
BEGIN:VEVENT
DTSTART;TZID=America/New_York:20210321T140000
DTEND;TZID=America/New_York:20210321T160000
DTSTAMP:20260421T094808
CREATED:20201215T025219Z
LAST-MODIFIED:20201217T155315Z
UID:10002508-1616335200-1616342400@qwf.org
SUMMARY:The Lighter Side of Memoir Writing
DESCRIPTION:Workshop details TBA!
URL:https://qwf.org/event/the-lighter-side-of-memoir-writing/2021-03-21/
LOCATION:Online via Zoom
CATEGORIES:QWF Workshops,Workshops
END:VEVENT
BEGIN:VEVENT
DTSTART;TZID=America/New_York:20210321T200000
DTEND;TZID=America/New_York:20210321T213000
DTSTAMP:20260421T094808
CREATED:20210317T181108Z
LAST-MODIFIED:20210317T181108Z
UID:10002589-1616356800-1616362200@qwf.org
SUMMARY:The Light Returns March 21st
DESCRIPTION:Sunday March 21st the Words & Music Show is your online welcome to Spring.\n\nTawhida Tanya Evanson is here with a new book. And catch poems\, music\, art and dance with:\n\nEmilie Zoey Baker (Australia)\nRaymond Jackson (New Orleans)\nMarie-France Jacques (Montréal)\nVisual Art by Francis Caprani\nVerse by Kelsey Nichole Brooks\nMusic by Ramela Arax Koumrouyane\n\nThe Words and Music Show is Montreal’s longest running spoken word poetry\, literature\, performance and music show featuring top names from this city and across the country.\n\n\nSponsored by the Quebec Writers’ Federation\, Wired on Words\, Casa del Popolo and CKUT 90.3 FM
URL:https://qwf.org/event/the-light-returns-march-21st/
LOCATION:Online
CATEGORIES:QWF Events,Words and Music
ATTACH;FMTTYPE=image/jpeg:https://qwf.org/wp-content/uploads/2021/03/WordsAndMusic.jpg
END:VEVENT
END:VCALENDAR