BEGIN:VCALENDAR
VERSION:2.0
PRODID:-//Quebec Writers&#039; Federation - ECPv6.15.20//NONSGML v1.0//EN
CALSCALE:GREGORIAN
METHOD:PUBLISH
X-WR-CALNAME:Quebec Writers&#039; Federation
X-ORIGINAL-URL:https://qwf.org
X-WR-CALDESC:Events for Quebec Writers&#039; Federation
REFRESH-INTERVAL;VALUE=DURATION:PT1H
X-Robots-Tag:noindex
X-PUBLISHED-TTL:PT1H
BEGIN:VTIMEZONE
TZID:America/New_York
BEGIN:DAYLIGHT
TZOFFSETFROM:-0500
TZOFFSETTO:-0400
TZNAME:EDT
DTSTART:20200308T070000
END:DAYLIGHT
BEGIN:STANDARD
TZOFFSETFROM:-0400
TZOFFSETTO:-0500
TZNAME:EST
DTSTART:20201101T060000
END:STANDARD
BEGIN:DAYLIGHT
TZOFFSETFROM:-0500
TZOFFSETTO:-0400
TZNAME:EDT
DTSTART:20210314T070000
END:DAYLIGHT
BEGIN:STANDARD
TZOFFSETFROM:-0400
TZOFFSETTO:-0500
TZNAME:EST
DTSTART:20211107T060000
END:STANDARD
BEGIN:DAYLIGHT
TZOFFSETFROM:-0500
TZOFFSETTO:-0400
TZNAME:EDT
DTSTART:20220313T070000
END:DAYLIGHT
BEGIN:STANDARD
TZOFFSETFROM:-0400
TZOFFSETTO:-0500
TZNAME:EST
DTSTART:20221106T060000
END:STANDARD
END:VTIMEZONE
BEGIN:VEVENT
DTSTART;VALUE=DATE:20210403
DTEND;VALUE=DATE:20210404
DTSTAMP:20260424T235754
CREATED:20210405T142733Z
LAST-MODIFIED:20210405T142733Z
UID:10002608-1617408000-1617494399@qwf.org
SUMMARY:"Views from Isolation" Zine Launch
DESCRIPTION:When lockdown began\, Montreal author & illustrator Marta Barnes sent out a request for photos of what people saw from outside their windows. Since everyone was seeing the same old sights every day\, her goal was to offer a new perspective – and hopefully some cheer in a tough time.\nThis zine is a collection of those illustrations. \nSince this project began with community in mind\, it’s only right to give back to the community in its publication. For every zine sold\, $2 will go to Dans la rue to help homeless and at-risk youth. After all\, not everyone is lucky enough to have a window from which to share their view. \nFundraising will begin on Saturday April 3rd at noon on Marta Barnes’ Etsy shop and continue for all of April. \nTo learn more about Dans la rue or to make an independent donation\, go to www.danslarue.org. \nMarta Barnes is the author of the book “31 Palaeo Pals” (published 2020) and works under her artist name Studio Barn Owl. Follow her on Instagram @studio_barnowl or visit her website at www.studiobarnowl.com.
URL:https://qwf.org/event/views-from-isolation-zine-launch/
LOCATION:Online
CATEGORIES:Book Launch,Community Events
ATTACH;FMTTYPE=image/jpeg:https://qwf.org/wp-content/uploads/2021/04/IMG_4982-scaled.jpg
ORGANIZER;CN="Studio Barn Owl":MAILTO:marta@studiobarnowl.com
END:VEVENT
BEGIN:VEVENT
DTSTART;TZID=America/New_York:20210403T193000
DTEND;TZID=America/New_York:20210403T210000
DTSTAMP:20260424T235754
CREATED:20210322T175359Z
LAST-MODIFIED:20210322T175359Z
UID:10002594-1617478200-1617483600@qwf.org
SUMMARY:Tuning In
DESCRIPTION:Co-presented with the MAI\, Tuning In is a commissioned series of three new\, short audio plays penned by women playwrights from across Canada. Tuning In tackles issues of denial\, fear and care. Three Canadian women playwrights explore the perspectives that reflect our personal realities and also the truths that bind us together. The series invites us to question the human experience and how society shapes us. \nTUNING IN’S PLAYWRIGHTS\nYVETTE NOLAN\n\n\nOn the subject of DENIAL \nLÂCHE PAS LA PATATE\nTwo siblings meet to figure out what to do with their father’s ashes. What they remember about their childhoods shocks them. \n\n\n\n\n\n\n\n\n\nWith Jimmy Blais\, Evan Stepanian (foley)\, Heather White \nCreative Team: Joseph Browne (sound engineer)\, Silvia Cloutier (direction)\, Fatma Sarah Elkashef (direction)\, Danna-Rae Evasiuk (technical director)\, Kathleen Flaherty (dramaturgy)\, Evan Stepanian (sound design) \n\n\n  \n\n\n\nAUDREY DWYER\n\n\nOn the subject of FEAR \nTHE RINGTONE\nDana wakes up with a hangover and on someone else’s porch. As she attempts to collect pieces of the night before\, she explores her mind\, the structures that be and her connection to the finer things in life – high end organic grocery shopping. \n\n\n\n\n\n\n\n\n\nWith Lucinda Davis\, Brian Dooley\, Warona Setshwaelo\, Evan Stepanian (foley) \nCreative team: Joseph Browne (sound engineer)\, Lydie Dubuisson (direction)\, Danna-Rae Evasiuk (technical director)\, Kathleen Flaherty (dramaturgy)\, Evan Stepanian (sound design)\, Emma Tibaldo (direction) \n  \n\n\n\n\nAMY LEE LAVOIE\n\n\nOn the subject of CARE \nSCOUT’S HONOUR\nA couple weighs the difficult decision of putting their beloved rescue dog down or draining the last of their savings into a Hail Mary chance of healing him. \n\n\n\n\n\n\n\n\n\nWith Danny Brochu\, Julie Tamiko Manning\, Anne-Marie Saheb\, Evan Stepanian (foley) \nCreative team: Joseph Browne (sound engineer)\, Micheline Chevrier (direction)\, Danna-Rae Evasiuk (technical director)\, Kathleen Flaherty (dramaturgy)\, Evan Stepanian (sound design)\, Alessandra Tom (direction) \n\n\n\n\nHOW TO TUNE IN\nSHOWTIMES\nApril 2 at 7:30pm\nApril 3 at 7:30pm\nApril 4 at 7:30pm \nTuning In is livestreamed every night\, just tune in!\nThis event is Donate-What-You-Decide\, with all proceeds going directly to The Open Door. \nAccess to the livestream coming soon!
URL:https://qwf.org/event/tuning-in/2021-04-03/
LOCATION:Online
CATEGORIES:Community Events,Performance
ATTACH;FMTTYPE=image/jpeg:https://qwf.org/wp-content/uploads/2021/03/TuningIn.jpg
ORGANIZER;CN="Imago Theatre":MAILTO:dannarae@imagotheatre.ca
END:VEVENT
END:VCALENDAR