BEGIN:VCALENDAR
VERSION:2.0
PRODID:-//Quebec Writers&#039; Federation - ECPv6.15.20//NONSGML v1.0//EN
CALSCALE:GREGORIAN
METHOD:PUBLISH
X-WR-CALNAME:Quebec Writers&#039; Federation
X-ORIGINAL-URL:https://qwf.org
X-WR-CALDESC:Events for Quebec Writers&#039; Federation
REFRESH-INTERVAL;VALUE=DURATION:PT1H
X-Robots-Tag:noindex
X-PUBLISHED-TTL:PT1H
BEGIN:VTIMEZONE
TZID:America/New_York
BEGIN:DAYLIGHT
TZOFFSETFROM:-0500
TZOFFSETTO:-0400
TZNAME:EDT
DTSTART:20200308T070000
END:DAYLIGHT
BEGIN:STANDARD
TZOFFSETFROM:-0400
TZOFFSETTO:-0500
TZNAME:EST
DTSTART:20201101T060000
END:STANDARD
BEGIN:DAYLIGHT
TZOFFSETFROM:-0500
TZOFFSETTO:-0400
TZNAME:EDT
DTSTART:20210314T070000
END:DAYLIGHT
BEGIN:STANDARD
TZOFFSETFROM:-0400
TZOFFSETTO:-0500
TZNAME:EST
DTSTART:20211107T060000
END:STANDARD
BEGIN:DAYLIGHT
TZOFFSETFROM:-0500
TZOFFSETTO:-0400
TZNAME:EDT
DTSTART:20220313T070000
END:DAYLIGHT
BEGIN:STANDARD
TZOFFSETFROM:-0400
TZOFFSETTO:-0500
TZNAME:EST
DTSTART:20221106T060000
END:STANDARD
END:VTIMEZONE
BEGIN:VEVENT
DTSTART;TZID=America/New_York:20210424T100000
DTEND;TZID=America/New_York:20210502T190000
DTSTAMP:20260425T083726
CREATED:20210319T144437Z
LAST-MODIFIED:20210319T144437Z
UID:10002591-1619258400-1619982000@qwf.org
SUMMARY:2021 Blue Metropolis International Literary Festival: The challenges of our times?
DESCRIPTION:April 24 to May 2\, 2021\, the Blue Metropolis International Literary Festival will open its virtual doors for its spring program. \nOver a hundred national and international invitees to tackle a thought-provoking theme: the challenges of our times. \nOver fifty panels\, debates\, interviews—complete with fresh points of view on subject that interest you:\n– Writers of a wounded Lebanon\n– Souleymane Bachir Diagne: Africa and the West: Pacified Memories?\n– David Grossman: “Trenchant Witness”\n– Who are we? Where are we coming from? Indigenous voices of the moment\n– Life in SLOW motion: the world around the corner\n– Do writers ever really perish? Mathieu Lindon on Hervé Guibert\n– Javier Cercas: The novel in search of the past/Palabras que profundizan el pasado\n– All People Share the Same Rights\n– A Teen Author’s Take on Loving and Supporting a Sibling With Autism
URL:https://qwf.org/event/2021-blue-metropolis-international-literary-festival-the-challenges-of-our-times/
LOCATION:Online
CATEGORIES:Community Events
ATTACH;FMTTYPE=image/jpeg:https://qwf.org/wp-content/uploads/2021/03/PUB-WEBTMIZE-x-MET-BLEU-Teaser_Festival_Instagram_A.jpg
ORGANIZER;CN="Blue Metropolis":MAILTO:info@bluemetropolis.org
END:VEVENT
BEGIN:VEVENT
DTSTART;TZID=America/New_York:20210430T180000
DTEND;TZID=America/New_York:20210430T193000
DTSTAMP:20260425T083726
CREATED:20210301T161531Z
LAST-MODIFIED:20210301T161554Z
UID:10002568-1619805600-1619811000@qwf.org
SUMMARY:Teen Book Club: Shadow and Bone
DESCRIPTION:VIRTUAL MEETING – VIA ZOOM\nhttps://us02web.zoom.us/j/82936206716\nMeeting ID: 829 3620 6716\nPasscode: 093093 \nJoin us at la Petite Librairie Drawn & Quarterly for our Teen book club! Our April pick is Shadow and Boneby Leigh Bardugo. No olds\, please. \nThis is a book club for teenagers\, with a median age of 13-16 or grades sec 1-5 — all kids must be in secondary school. There will be a different book every meeting. The focus is to provide teenagers a safe space to learn to discuss and express thoughts and ideas about literature among their peers without parents or teachers. \nWhere and How Can I purchase the book?\nFind it here: https://bit.ly/2P7Cft0 \nMore info on our webstore here:\nhttp://mtl.drawnandquarterly.com/posts/webstore-faq \nWe Ship Canada-wide!\nBy purchasing your book at Librairie Drawn & Quarterly you help support events like this one\, independent publishing and retailing\, our neighborhood\, and authors both local and from around the world who depend on independent bookstores for their livelihood. Your support is appreciated.
URL:https://qwf.org/event/teen-book-club-shadow-and-bone/
LOCATION:Online via Zoom
CATEGORIES:Book Club
ATTACH;FMTTYPE=image/jpeg:https://qwf.org/wp-content/uploads/2021/02/bannerShadow.jpg
END:VEVENT
END:VCALENDAR