BEGIN:VCALENDAR
VERSION:2.0
PRODID:-//Quebec Writers&#039; Federation - ECPv6.15.20//NONSGML v1.0//EN
CALSCALE:GREGORIAN
METHOD:PUBLISH
X-ORIGINAL-URL:https://qwf.org
X-WR-CALDESC:Events for Quebec Writers&#039; Federation
REFRESH-INTERVAL;VALUE=DURATION:PT1H
X-Robots-Tag:noindex
X-PUBLISHED-TTL:PT1H
BEGIN:VTIMEZONE
TZID:America/New_York
BEGIN:DAYLIGHT
TZOFFSETFROM:-0500
TZOFFSETTO:-0400
TZNAME:EDT
DTSTART:20200308T070000
END:DAYLIGHT
BEGIN:STANDARD
TZOFFSETFROM:-0400
TZOFFSETTO:-0500
TZNAME:EST
DTSTART:20201101T060000
END:STANDARD
BEGIN:DAYLIGHT
TZOFFSETFROM:-0500
TZOFFSETTO:-0400
TZNAME:EDT
DTSTART:20210314T070000
END:DAYLIGHT
BEGIN:STANDARD
TZOFFSETFROM:-0400
TZOFFSETTO:-0500
TZNAME:EST
DTSTART:20211107T060000
END:STANDARD
BEGIN:DAYLIGHT
TZOFFSETFROM:-0500
TZOFFSETTO:-0400
TZNAME:EDT
DTSTART:20220313T070000
END:DAYLIGHT
BEGIN:STANDARD
TZOFFSETFROM:-0400
TZOFFSETTO:-0500
TZNAME:EST
DTSTART:20221106T060000
END:STANDARD
END:VTIMEZONE
BEGIN:VEVENT
DTSTART;TZID=America/New_York:20210922T190000
DTEND;TZID=America/New_York:20210922T210000
DTSTAMP:20260423T132155
CREATED:20210830T155205Z
LAST-MODIFIED:20210830T155205Z
UID:10002769-1632337200-1632344400@qwf.org
SUMMARY:QC Fiction Launches "To See Out the Night\," Written by David Clerson & Translated by Katia Grubisic
DESCRIPTION:Join author David Clerson and translator Katia Grubisic as they discuss “To See Out the Night” followed by a reading.\n***\nIn these 12 short stories\, scurrying insects and luminous jellyfish reveal a predatory world of childhood fairy tales\, lurking shadows\, and unrelenting fevers. . . .Throughout\, Clerson draws—and blurs—the lines between man and beast\, life and death\, as characters strive to see out the night. \n***\nPlease R.S.V.P. at liteventrsvp@gmail.com
URL:https://qwf.org/event/qc-fiction-launches-to-see-out-the-night-written-by-david-clerson-translated-by-katia-grubisic/
LOCATION:Online – Please RSVP
CATEGORIES:Book Launch,Community Events
ATTACH;FMTTYPE=image/png:https://qwf.org/wp-content/uploads/2021/08/To-See-Out-the-Night-Book-Launch_September-22.png
END:VEVENT
END:VCALENDAR