BEGIN:VCALENDAR
VERSION:2.0
PRODID:-//Quebec Writers&#039; Federation - ECPv6.15.20//NONSGML v1.0//EN
CALSCALE:GREGORIAN
METHOD:PUBLISH
X-ORIGINAL-URL:https://qwf.org
X-WR-CALDESC:Events for Quebec Writers&#039; Federation
REFRESH-INTERVAL;VALUE=DURATION:PT1H
X-Robots-Tag:noindex
X-PUBLISHED-TTL:PT1H
BEGIN:VTIMEZONE
TZID:America/New_York
BEGIN:DAYLIGHT
TZOFFSETFROM:-0500
TZOFFSETTO:-0400
TZNAME:EDT
DTSTART:20210314T070000
END:DAYLIGHT
BEGIN:STANDARD
TZOFFSETFROM:-0400
TZOFFSETTO:-0500
TZNAME:EST
DTSTART:20211107T060000
END:STANDARD
BEGIN:DAYLIGHT
TZOFFSETFROM:-0500
TZOFFSETTO:-0400
TZNAME:EDT
DTSTART:20220313T070000
END:DAYLIGHT
BEGIN:STANDARD
TZOFFSETFROM:-0400
TZOFFSETTO:-0500
TZNAME:EST
DTSTART:20221106T060000
END:STANDARD
BEGIN:DAYLIGHT
TZOFFSETFROM:-0500
TZOFFSETTO:-0400
TZNAME:EDT
DTSTART:20230312T070000
END:DAYLIGHT
BEGIN:STANDARD
TZOFFSETFROM:-0400
TZOFFSETTO:-0500
TZNAME:EST
DTSTART:20231105T060000
END:STANDARD
END:VTIMEZONE
BEGIN:VEVENT
DTSTART;TZID=America/New_York:20220820T160000
DTEND;TZID=America/New_York:20220820T173000
DTSTAMP:20260421T225449
CREATED:20220711T200502Z
LAST-MODIFIED:20220711T200504Z
UID:10002935-1661011200-1661016600@qwf.org
SUMMARY:North Hatley book introduction of "It Was Only a Movie"
DESCRIPTION:More than Just a Book! A Major Cultural Event!! \nPlease mark your calendars for an on-site book reading of “It Was Only a Movie” by John LeBaron at the Gillygooly Gallery in Canton de Hatley\, Québec (96 Chemin Hatley Centre) on Saturday\, 20th August 2022 at 4:00 PM. John will read excerpts from the book and discuss the adventure of writing humour. Book copies will be available for sale at this event. Light refreshments will be served.  \n“It Was Only a Movie” propels readers on a roller-coaster ride to secret sites\, long suppressed from public view\, culled from highly classified dossiers of Eastern Townships diplomatic intelligence. This volume tracks the adventures of Eastern Townshippers from the humble marijuana farmer to some of the region’s most celebrated progeny. By popular demand\, the former president of the United States makes a cameo appearance.
URL:https://qwf.org/event/north-hatley-book-introduction-of-it-was-only-a-movie/
LOCATION:Bibliothèque North Hatley\, 96 Chemin Hatley Centre\, Canton de Hatley\, Québec\, J0B 2C0\, Canada
CATEGORIES:Book Launch,Community Events
ATTACH;FMTTYPE=image/jpeg:https://qwf.org/wp-content/uploads/2022/07/BookCover-Banner_2022-07-09.jpg
END:VEVENT
BEGIN:VEVENT
DTSTART;TZID=America/New_York:20220820T160000
DTEND;TZID=America/New_York:20220820T173000
DTSTAMP:20260421T225449
CREATED:20220810T160320Z
LAST-MODIFIED:20220810T160322Z
UID:10003023-1661011200-1661016600@qwf.org
SUMMARY:Public book reading
DESCRIPTION:Please mark your calendars and come to the Gillygooly Gallery for the North Hatley introduction of the book\, It Was Only a Movie! — essays and vignettes by John LeBaron \n\n\n\nIt Was Only a Movie by John LeBaron will be presented at the Gillygooly Gallery in Canton de Hatley\, Québec (96 Chemin Hatley Centre) on Saturday\, 20th August 2022 at 4:00 PM. John will read excerpts from the book and discuss the adventure of writing humour. Copies will be available for sale at a discount from the listed price.
URL:https://qwf.org/event/public-book-reading/
LOCATION:Gillygooly Gallery
CATEGORIES:Book Launch,Community Events
ATTACH;FMTTYPE=image/jpeg:https://qwf.org/wp-content/uploads/2022/08/BookCover-Banner_2022-08-06.jpg
END:VEVENT
END:VCALENDAR