BEGIN:VCALENDAR
VERSION:2.0
PRODID:-//Quebec Writers&#039; Federation - ECPv6.15.20//NONSGML v1.0//EN
CALSCALE:GREGORIAN
METHOD:PUBLISH
X-ORIGINAL-URL:https://qwf.org
X-WR-CALDESC:Events for Quebec Writers&#039; Federation
REFRESH-INTERVAL;VALUE=DURATION:PT1H
X-Robots-Tag:noindex
X-PUBLISHED-TTL:PT1H
BEGIN:VTIMEZONE
TZID:America/New_York
BEGIN:DAYLIGHT
TZOFFSETFROM:-0500
TZOFFSETTO:-0400
TZNAME:EDT
DTSTART:20220313T070000
END:DAYLIGHT
BEGIN:STANDARD
TZOFFSETFROM:-0400
TZOFFSETTO:-0500
TZNAME:EST
DTSTART:20221106T060000
END:STANDARD
BEGIN:DAYLIGHT
TZOFFSETFROM:-0500
TZOFFSETTO:-0400
TZNAME:EDT
DTSTART:20230312T070000
END:DAYLIGHT
BEGIN:STANDARD
TZOFFSETFROM:-0400
TZOFFSETTO:-0500
TZNAME:EST
DTSTART:20231105T060000
END:STANDARD
BEGIN:DAYLIGHT
TZOFFSETFROM:-0500
TZOFFSETTO:-0400
TZNAME:EDT
DTSTART:20240310T070000
END:DAYLIGHT
BEGIN:STANDARD
TZOFFSETFROM:-0400
TZOFFSETTO:-0500
TZNAME:EST
DTSTART:20241103T060000
END:STANDARD
END:VTIMEZONE
BEGIN:VEVENT
DTSTART;TZID=America/New_York:20230310T180000
DTEND;TZID=America/New_York:20230310T190000
DTSTAMP:20260424T225634
CREATED:20230227T165005Z
LAST-MODIFIED:20230227T165008Z
UID:10003303-1678471200-1678474800@qwf.org
SUMMARY:Canadian Parents for French Bilingual Virtual Story Time with Candace Amarante
DESCRIPTION:Join author Candace Amarante for a Bilingual Virtual Story time Session on Friday\, March 10th Participants will listen to a story about Ottawa and learn about the Bilingualism that exists all around us. They will also listen to “The Pheasant’s Tale… Or was it its Tail?” written by Candace Amarante. \nPDF/virtual access to the books read as well as other recommended stories will be emailed to all participants following the session. There will be opportunities to ask questions as well a creative drawing activity so please tune in with some paper and crayons or pencils. The content is most appropriate for ages 5-10\, but all are welcome to listen to these fantastic stories. Participants will receive a zoom link by email prior to the event. Register for free now! \nPlease email mhawley@cpf.ca with any questions or concerns pertaining to the event. \nAbout Candace  \nCandace Amarante writes short stories\, plays and children’s books. “Le ciel me sourit/ The Sky Smiles at Me” is Candace’s first bilingual book for children. Her most recent work includes: a dialogue\, “Let’s not talk about it anymore” (Questions: Philosophy for Young People Fall 2022); The Dream Machine (in collaboration with Dr. Argerie Tsimicalis and Shriners Hospitals for Children-Canada; Tellwell Publishers\, forthcoming); “The Blunder Family: Now where’d I put the pork?” (East of the Web 2020); The Pheasant’s Tale or … was it its Tail? (Green Bamboo Publishing 2017).  Candace holds a doctorate in political science from Columbia University\, NY. She lives in Montreal\, where she is a member of the Board of Directors of the Canadian Coalition for the Rights of Children. When she is not writing\, she loves skiing with her husband and reading with her daughter. For more information\, please visit her website: https://sites.google.com/site/candaceamarante/
URL:https://qwf.org/event/canadian-parents-for-french-bilingual-virtual-story-time-with-candace-amarante/
LOCATION:Zoom\, https://bit.ly/35akIGi
END:VEVENT
END:VCALENDAR