BEGIN:VCALENDAR
VERSION:2.0
PRODID:-//Quebec Writers&#039; Federation - ECPv6.15.20//NONSGML v1.0//EN
CALSCALE:GREGORIAN
METHOD:PUBLISH
X-WR-CALNAME:Quebec Writers&#039; Federation
X-ORIGINAL-URL:https://qwf.org
X-WR-CALDESC:Events for Quebec Writers&#039; Federation
REFRESH-INTERVAL;VALUE=DURATION:PT1H
X-Robots-Tag:noindex
X-PUBLISHED-TTL:PT1H
BEGIN:VTIMEZONE
TZID:America/New_York
BEGIN:DAYLIGHT
TZOFFSETFROM:-0500
TZOFFSETTO:-0400
TZNAME:EDT
DTSTART:20220313T070000
END:DAYLIGHT
BEGIN:STANDARD
TZOFFSETFROM:-0400
TZOFFSETTO:-0500
TZNAME:EST
DTSTART:20221106T060000
END:STANDARD
BEGIN:DAYLIGHT
TZOFFSETFROM:-0500
TZOFFSETTO:-0400
TZNAME:EDT
DTSTART:20230312T070000
END:DAYLIGHT
BEGIN:STANDARD
TZOFFSETFROM:-0400
TZOFFSETTO:-0500
TZNAME:EST
DTSTART:20231105T060000
END:STANDARD
BEGIN:DAYLIGHT
TZOFFSETFROM:-0500
TZOFFSETTO:-0400
TZNAME:EDT
DTSTART:20240310T070000
END:DAYLIGHT
BEGIN:STANDARD
TZOFFSETFROM:-0400
TZOFFSETTO:-0500
TZNAME:EST
DTSTART:20241103T060000
END:STANDARD
END:VTIMEZONE
BEGIN:VEVENT
DTSTART;TZID=America/New_York:20230608T000000
DTEND;TZID=America/New_York:20230617T235959
DTSTAMP:20260421T121241
CREATED:20230608T195359Z
LAST-MODIFIED:20230608T195531Z
UID:10003405-1686182400-1687046399@qwf.org
SUMMARY:Alright: Solving the Problem of Living
DESCRIPTION:Running June 8-June 17\n\n\n\nAcclaimed storyteller Nisha Coleman (Self-Exile\, Cornichon) takes you on an exhilarating\, nail-biting\, and heart-wrenching adventure. This is an intimate storytelling show about life’s arduous events and the pinpricks of light that tilt our gaze from the gutter to the stars. \n\n\n\nPlaywright: Nisha Coleman \n\n\n\nDirectors: Paul Van Dyck & Stephen Maclean Rogers \n\n\n\nOther Collaborators or Performers: Patrick McMaster \n\n\n\nFrom Montreal\, QC \n\n\n\nMontreal Premiere \n\n\n\nEnglish \n\n\n\nLatecomers: 10 minutes \n\n\n\nrabbitinahatproductions.com \n\n\n\nInstagram: @rabbitinhatprod \n\n\n\n#alrighttheshow
URL:https://qwf.org/event/alright-solving-the-problem-of-living/
LOCATION:Comedy Theatre of Montreal\, 1113 Boul. de Maisonneuve E\, Montreal\, Quebec\, H2L 1Z6\, Canada
CATEGORIES:Festival,Performance,Storytelling
ATTACH;FMTTYPE=image/webp:https://qwf.org/wp-content/uploads/2023/06/Alright-Solving-the-Problem-of-Living.webp
END:VEVENT
BEGIN:VEVENT
DTSTART;TZID=America/New_York:20230611T140000
DTEND;TZID=America/New_York:20230611T160000
DTSTAMP:20260421T121241
CREATED:20230602T142852Z
LAST-MODIFIED:20230609T141034Z
UID:10003398-1686492000-1686499200@qwf.org
SUMMARY:2023 QWF Mentorship Reading
DESCRIPTION:The QWF Mentorship Reading is scheduled for June 11\, 2023 at 2 pm. This event will happen in-person at the Atwater Auditorium\, 2nd floor of the Atwater Library (Note that as the event is happening outside library hours\, the entrance is at 4023 Tupper Street). \n\n\n\nThe QWF Mentorships are designed to help promising emerging writers make the transition to the next stage of their careers. Over a period of four months\, each mentee received one-on-one guidance and support from a professional writing mentor. Now\, their journey culminates in a public reading where the mentees present an excerpt of their works-in-progress. \n\n\n\nThis year’s cohort features: \n\n\n\nAlana Dunlop\, mentored by H. Felix Chau Bradley in FictionLoch Baillie\, mentored by Simina Banu in PoetryYaani Dinu Mahapatuna\, mentored by Sean Michaels in FictionCornelia Mars\, mentored by Annabel Howard in NonfictionNoa Padawer-Blatt\, mentored by David Wilson in FictionRaissa Simone\, mentored by Jay Ritchie in PoetryÉlisabeth Savoie\, mentored by Sonya Malaborza in Translation (The Jean Antonin Billard LTAC/QWF Mentorship in Literary Translation)Victoria Platel\, mentored by Alain Zaloum in Screenwriting (Mairuth Sarsfield Mentorship) \n\n\n\nNote: Tickets will be available at the door for cash only. \n\n\n\n$5 – $10(Student / General)
URL:https://qwf.org/event/2023-qwf-mentorship-reading/
LOCATION:Quebec
CATEGORIES:Mentorship Reading
ATTACH;FMTTYPE=image/png:https://qwf.org/wp-content/uploads/2023/06/Event-Banners3.png
END:VEVENT
END:VCALENDAR