BEGIN:VCALENDAR
VERSION:2.0
PRODID:-//Quebec Writers&#039; Federation - ECPv6.15.20//NONSGML v1.0//EN
CALSCALE:GREGORIAN
METHOD:PUBLISH
X-WR-CALNAME:Quebec Writers&#039; Federation
X-ORIGINAL-URL:https://qwf.org
X-WR-CALDESC:Events for Quebec Writers&#039; Federation
REFRESH-INTERVAL;VALUE=DURATION:PT1H
X-Robots-Tag:noindex
X-PUBLISHED-TTL:PT1H
BEGIN:VTIMEZONE
TZID:America/New_York
BEGIN:DAYLIGHT
TZOFFSETFROM:-0500
TZOFFSETTO:-0400
TZNAME:EDT
DTSTART:20230312T070000
END:DAYLIGHT
BEGIN:STANDARD
TZOFFSETFROM:-0400
TZOFFSETTO:-0500
TZNAME:EST
DTSTART:20231105T060000
END:STANDARD
BEGIN:DAYLIGHT
TZOFFSETFROM:-0500
TZOFFSETTO:-0400
TZNAME:EDT
DTSTART:20240310T070000
END:DAYLIGHT
BEGIN:STANDARD
TZOFFSETFROM:-0400
TZOFFSETTO:-0500
TZNAME:EST
DTSTART:20241103T060000
END:STANDARD
BEGIN:DAYLIGHT
TZOFFSETFROM:-0500
TZOFFSETTO:-0400
TZNAME:EDT
DTSTART:20250309T070000
END:DAYLIGHT
BEGIN:STANDARD
TZOFFSETFROM:-0400
TZOFFSETTO:-0500
TZNAME:EST
DTSTART:20251102T060000
END:STANDARD
END:VTIMEZONE
BEGIN:VEVENT
DTSTART;TZID=America/New_York:20240207T180000
DTEND;TZID=America/New_York:20240207T210000
DTSTAMP:20260424T225330
CREATED:20231213T180834Z
LAST-MODIFIED:20240118T193653Z
UID:10003666-1707328800-1707339600@qwf.org
SUMMARY:Perspective in Literary Fiction
DESCRIPTION:This five-week workshop will offer a deep dive into the use of perspective in fiction. Storytellers operate in first-person\, second-person\, third-person limited\, third-person omniscient\, and more unusual points-of-view. What distinguishes these perspectives? What are their gifts and limitations? Most importantly\, what can your chosen perspective do for the story you want to tell? \n\n\n\nEach class will open with a discussion of perspective in some published fiction. How close is the narrator to the characters? How does the perspective affect the voice in which the story is told? What is the relationship of the voice to the characters? \n\n\n\nNext\, we will do two writing exercises. The first will be largely generative\, based on the reading. The second will be integrative\, guiding participants to apply what we are learning to their own stories or characters. \n\n\n\nAfter discussing the writing exercises\, we will devote the last part of each class to discussing participant stories. \n\n\n\nOn registration\, participants will receive a packet of published stories or samples to be discussed in the first class; reading for subsequent weeks will be distributed after our first meeting. Participants are encouraged to bring ½-1 page of fiction to share on the first day\, though they may choose instead to share some work generated in class. Subsequently\, each participant is encouraged to submit 3-10 pages of fiction to be discussed by the class with a special focus on perspective. Otherwise\, discussion will be tailored to participant preferences\, with an eye to making discussion as useful to the writer as possible.   \n\n\n\nParticipants should arrive each week having read the assigned stories and their peers’ work (approximately 40 pages). Be prepared to discuss these thoughtfully and with engagement! My goal is to create a space for candid and open-ended discussion. \n\n\n\nParticipants will finish the workshop with greater fluency and command in perspective\, as readers able to discern the subtleties and mechanics of this important aspect of our craft\, and as writers able to choose and employ a storytelling perspective with verve and confidence. \n\n\n\nPadma Viswanathan’s novels have been published in eight countries and shortlisted for various awards\, including the Scotiabank Giller Prize. Her most recent book is Like Every Form of Love: A Memoir of Friendship and True Crime (Random House Canada\, 2023). Her short fiction\, essays\, and short translations can be found in Granta\, The Paris Review\, BRICK\, and elsewhere. Professor of Creative Writing at the University of Arkansas\, she has also served as fiction faculty at the Banff Center\, the Vermont Studio Center\, the Bread Loaf Conferences\, and the low-residency MFA of Fairleigh Dickinson University. More at www.padmaviswanathan.com 
URL:https://qwf.org/event/perspective-in-literary-fiction/2024-02-07/
LOCATION:QWF Office\, 1200 Atwater Avenue\, Room 3\, Westmount\, QC\, H3Z 1X4\, Canada
CATEGORIES:QWF Workshops,Workshops
ATTACH;FMTTYPE=image/jpeg:https://qwf.org/wp-content/uploads/2023/12/ViswanathanPhoto-Alex-Tran-e1702491665727.jpeg
GEO:45.4886431;-73.5864377
X-APPLE-STRUCTURED-LOCATION;VALUE=URI;X-ADDRESS=QWF Office 1200 Atwater Avenue Room 3 Westmount QC H3Z 1X4 Canada;X-APPLE-RADIUS=500;X-TITLE=1200 Atwater Avenue\, Room 3:geo:-73.5864377,45.4886431
END:VEVENT
END:VCALENDAR