BEGIN:VCALENDAR
VERSION:2.0
PRODID:-//Quebec Writers&#039; Federation - ECPv6.15.20//NONSGML v1.0//EN
CALSCALE:GREGORIAN
METHOD:PUBLISH
X-ORIGINAL-URL:https://qwf.org
X-WR-CALDESC:Events for Quebec Writers&#039; Federation
REFRESH-INTERVAL;VALUE=DURATION:PT1H
X-Robots-Tag:noindex
X-PUBLISHED-TTL:PT1H
BEGIN:VTIMEZONE
TZID:America/New_York
BEGIN:DAYLIGHT
TZOFFSETFROM:-0500
TZOFFSETTO:-0400
TZNAME:EDT
DTSTART:20230312T070000
END:DAYLIGHT
BEGIN:STANDARD
TZOFFSETFROM:-0400
TZOFFSETTO:-0500
TZNAME:EST
DTSTART:20231105T060000
END:STANDARD
BEGIN:DAYLIGHT
TZOFFSETFROM:-0500
TZOFFSETTO:-0400
TZNAME:EDT
DTSTART:20240310T070000
END:DAYLIGHT
BEGIN:STANDARD
TZOFFSETFROM:-0400
TZOFFSETTO:-0500
TZNAME:EST
DTSTART:20241103T060000
END:STANDARD
BEGIN:DAYLIGHT
TZOFFSETFROM:-0500
TZOFFSETTO:-0400
TZNAME:EDT
DTSTART:20250309T070000
END:DAYLIGHT
BEGIN:STANDARD
TZOFFSETFROM:-0400
TZOFFSETTO:-0500
TZNAME:EST
DTSTART:20251102T060000
END:STANDARD
END:VTIMEZONE
BEGIN:VEVENT
DTSTART;TZID=America/New_York:20240420T103000
DTEND;TZID=America/New_York:20240420T123000
DTSTAMP:20260421T134123
CREATED:20231213T192315Z
LAST-MODIFIED:20240118T193607Z
UID:10003689-1713609000-1713616200@qwf.org
SUMMARY:Everything You Ever Wanted to Know About Writing Residencies!
DESCRIPTION:Have you ever longed to get away to write? Do you have a manuscript that needs uninterrupted time and attention away from your everyday life? Is your writing practice in a rut? Writing residencies are ideal for focusing time on large projects\, meeting other artists\, and re-booting your creative life. \n\n\n\nIn this two-day workshop\, we will explore how writers can benefit from different residency opportunities and how to put forward the strongest application possible. From sharing resources on where to find the best residency experience for your needs to drafting your artist statement\, we will discuss the benefits and pitfalls of both national and international residencies. During the workshop sessions\, we will also touch on available grant funding for residencies. Participants will leave with a shortlist of residencies (with deadlines)\, a draft of an application\, and a submission plan. \n\n\n\nIn the first session we will discuss: \n\n\n\n·      The purpose of residencies \n\n\n\n·      Different kinds of residency experiences and what to expect \n\n\n\n·      Where and how to find out about residencies \n\n\n\n·      Opportunities in Canada and internationally \n\n\n\n·      The basic components of an application \n\n\n\n·      Budgeting for a residency and funding \n\n\n\nBetween sessions\, you will choose a residency and draft your application. At the second meeting\, you will share your project description or artist statement. Through group discussion\, we will hone and help each other strengthen and clarify goals. \n\n\n\nMarcia Walker’s writing has appeared in Electric Literature’s Recommended Reads\, The Chicago Review\, The New Quarterly\, Fiddlehead\, The New York Times\, PRISM International\, Room\, EVENT\, The Globe and Mail\, CBC radio\, and elsewhere. She has been shortlisted for the Commonwealth Short Story Prize\, PRISM’s fiction and non-fiction prize\, and the Writers’ Union of Canada short prose competition. She has attended residencies at Yaddo (U.S.)\, the Banff Centre (Canada)\, Saari (Finland)\, Can Serrat (Spain)\, KH Messen (Norway) and others. Before becoming a writer\, Marcia worked in theatre and as a lawyer. Find her online at www.marciawalker.ca.
URL:https://qwf.org/event/everything-you-ever-wanted-to-know-about-writing-residencies/2024-04-20/
LOCATION:QWF Office\, 1200 Atwater Avenue\, Room 3\, Westmount\, QC\, H3Z 1X4\, Canada
CATEGORIES:QWF Workshops,Workshops
ATTACH;FMTTYPE=image/jpeg:https://qwf.org/wp-content/uploads/2023/12/Walker-photo.jpeg
GEO:45.4886431;-73.5864377
X-APPLE-STRUCTURED-LOCATION;VALUE=URI;X-ADDRESS=QWF Office 1200 Atwater Avenue Room 3 Westmount QC H3Z 1X4 Canada;X-APPLE-RADIUS=500;X-TITLE=1200 Atwater Avenue\, Room 3:geo:-73.5864377,45.4886431
END:VEVENT
BEGIN:VEVENT
DTSTART;TZID=America/New_York:20240420T160000
DTEND;TZID=America/New_York:20240420T160000
DTSTAMP:20260421T134123
CREATED:20240409T181831Z
LAST-MODIFIED:20240409T182034Z
UID:10003805-1713628800-1713628800@qwf.org
SUMMARY:Book Launch: Vancouvered Out by Norman Nawrocki
DESCRIPTION:Saturday\, April 20\, 2024\, 4:00 pm ET\n\n\n\nAcclaimed Montreal author Norman Nawrocki launches his exciting and timely new novella\, Vancouvered Out\, Saturday April 20\, 2024 at the Milton-Parc Community Library\, 3516 ave du Parc\, Montreal\, H2X 2H7. The 4pm launch is free.  \n\n\n\nVancouvered Out (Nawrocki’s 17th book) is a dramatic and timely story about roots\, gentrification\, housing rights\, community and the fight for a city. Although the story is set in Vancouver\, the issues it raises concern Montrealers also. We see the city through the eyes of Steve\, a poor and unemployed labourer. Demons and drug dealers drove him out of town ten years earlier in 2004. Now he’s back seeking a new life and answers to the mysterious death of his teen daughter. But in this west coast paradise he once called home\, he feels strangely out-of- place. As the love of family and friends stokes his own smouldering defiance of the new soul- destroying urban order\, he aches for justice and a livable city for all. \n\n\n\n\nVisit Facebook Event\n\n\n\n\n\n\n\n\n\nWatch Book Trailer
URL:https://qwf.org/event/book-launch-vancouvered-out-by-norman-nawrocki/
LOCATION:Milton Parc Community Library\, 3518 avenue du Parc\, Montreal\, Quebec\, Canada
CATEGORIES:Book Launch
ATTACH;FMTTYPE=image/jpeg:https://qwf.org/wp-content/uploads/2024/04/Vancouvered-Out-MTL-POSTER-1.jpeg
END:VEVENT
BEGIN:VEVENT
DTSTART;TZID=America/New_York:20240420T200000
DTEND;TZID=America/New_York:20240420T220000
DTSTAMP:20260421T134123
CREATED:20240220T153134Z
LAST-MODIFIED:20240220T153139Z
UID:10003747-1713643200-1713650400@qwf.org
SUMMARY:Confabulation presents: Food Fights — Stories of family traditions\, minced words and soul food
DESCRIPTION:Confabulation Montreal presents: “Food Fights — Stories of family traditions\, minced words and soul food.” \nSaturday April 20\, 2024 @ 20h \nMainline Theatre 3997 St Laurent Blvd\, Montreal\, Quebec H2W 1Y4
URL:https://qwf.org/event/confabulation-presents-food-fights-stories-of-family-traditions-minced-words-and-soul-food/
LOCATION:Mainline Theatre\, 3997 St Laurent Blvd\, Montreal\, Quebec\, H2W 1Y4\, Canada
CATEGORIES:Performance
ATTACH;FMTTYPE=image/jpeg:https://qwf.org/wp-content/uploads/2024/02/04-24-Food-Fights.jpg
END:VEVENT
END:VCALENDAR