BEGIN:VCALENDAR
VERSION:2.0
PRODID:-//Quebec Writers&#039; Federation - ECPv6.15.20//NONSGML v1.0//EN
CALSCALE:GREGORIAN
METHOD:PUBLISH
X-ORIGINAL-URL:https://qwf.org
X-WR-CALDESC:Events for Quebec Writers&#039; Federation
REFRESH-INTERVAL;VALUE=DURATION:PT1H
X-Robots-Tag:noindex
X-PUBLISHED-TTL:PT1H
BEGIN:VTIMEZONE
TZID:America/New_York
BEGIN:DAYLIGHT
TZOFFSETFROM:-0500
TZOFFSETTO:-0400
TZNAME:EDT
DTSTART:20230312T070000
END:DAYLIGHT
BEGIN:STANDARD
TZOFFSETFROM:-0400
TZOFFSETTO:-0500
TZNAME:EST
DTSTART:20231105T060000
END:STANDARD
BEGIN:DAYLIGHT
TZOFFSETFROM:-0500
TZOFFSETTO:-0400
TZNAME:EDT
DTSTART:20240310T070000
END:DAYLIGHT
BEGIN:STANDARD
TZOFFSETFROM:-0400
TZOFFSETTO:-0500
TZNAME:EST
DTSTART:20241103T060000
END:STANDARD
BEGIN:DAYLIGHT
TZOFFSETFROM:-0500
TZOFFSETTO:-0400
TZNAME:EDT
DTSTART:20250309T070000
END:DAYLIGHT
BEGIN:STANDARD
TZOFFSETFROM:-0400
TZOFFSETTO:-0500
TZNAME:EST
DTSTART:20251102T060000
END:STANDARD
END:VTIMEZONE
BEGIN:VEVENT
DTSTART;TZID=America/New_York:20240524T160000
DTEND;TZID=America/New_York:20240525T200000
DTSTAMP:20260421T062936
CREATED:20240115T153753Z
LAST-MODIFIED:20240115T153756Z
UID:10003708-1716566400-1716667200@qwf.org
SUMMARY:Festival Montréal Mystère / Montréal Mystery Festival
DESCRIPTION:Welcome to the inaugural Montreal Mystery book festival in downtown Montreal\, where the worlds of French and English literature meet. This event brings together English and French language writers for a weekend dedicated to the mystery and thriller genres. We’ll delve into intricate plots\, intriguing characters\, and the power of storytelling. Set against the vibrant backdrop of downtown Montreal\, this festival celebrates the blend of languages\, cultures\, and the timeless appeal of mystery fiction. \nJoin us at the Grande Bibliothèque de Montréal on May 24-25\, 2024 for your opportunity to hear and meet crime\, mystery and thriller writers from Quebec\, the rest of Canada and beyond!
URL:https://qwf.org/event/festival-montreal-mystere-montreal-mystery-festival/
LOCATION:Grande Bibliothèque de Montréal\, 475 Boul. de Maisonneuve E.\, Montréal\, Quebec\, H2L 5C4\, Canada
CATEGORIES:Festival
ATTACH;FMTTYPE=image/png:https://qwf.org/wp-content/uploads/2024/01/logo-bilingual-white.png
END:VEVENT
END:VCALENDAR