BEGIN:VCALENDAR
VERSION:2.0
PRODID:-//Quebec Writers&#039; Federation - ECPv6.15.20//NONSGML v1.0//EN
CALSCALE:GREGORIAN
METHOD:PUBLISH
X-ORIGINAL-URL:https://qwf.org
X-WR-CALDESC:Events for Quebec Writers&#039; Federation
REFRESH-INTERVAL;VALUE=DURATION:PT1H
X-Robots-Tag:noindex
X-PUBLISHED-TTL:PT1H
BEGIN:VTIMEZONE
TZID:America/New_York
BEGIN:DAYLIGHT
TZOFFSETFROM:-0500
TZOFFSETTO:-0400
TZNAME:EDT
DTSTART:20230312T070000
END:DAYLIGHT
BEGIN:STANDARD
TZOFFSETFROM:-0400
TZOFFSETTO:-0500
TZNAME:EST
DTSTART:20231105T060000
END:STANDARD
BEGIN:DAYLIGHT
TZOFFSETFROM:-0500
TZOFFSETTO:-0400
TZNAME:EDT
DTSTART:20240310T070000
END:DAYLIGHT
BEGIN:STANDARD
TZOFFSETFROM:-0400
TZOFFSETTO:-0500
TZNAME:EST
DTSTART:20241103T060000
END:STANDARD
BEGIN:DAYLIGHT
TZOFFSETFROM:-0500
TZOFFSETTO:-0400
TZNAME:EDT
DTSTART:20250309T070000
END:DAYLIGHT
BEGIN:STANDARD
TZOFFSETFROM:-0400
TZOFFSETTO:-0500
TZNAME:EST
DTSTART:20251102T060000
END:STANDARD
END:VTIMEZONE
BEGIN:VEVENT
DTSTART;TZID=America/New_York:20240627T190000
DTEND;TZID=America/New_York:20240627T203000
DTSTAMP:20260421T124725
CREATED:20240612T174001Z
LAST-MODIFIED:20240612T174006Z
UID:10003864-1719514800-1719520200@qwf.org
SUMMARY:An Evening with Jay Ritchie & Guests
DESCRIPTION:Thu\, Jun 27\, 2024 7:00 PM – 8:30 PM ETLibrairie Saint-Henri Bookstore (4622 Rue Notre-Dame Ouest\, Montreal)\n\n\n\nJoin us in celebrating the launch of Jay Ritchie‘s new poetry collection Listening in Many Publics (Invisible Publishing\, 2024)! The event will feature a reading by Jay\, alongside special guest readings by Ashley Obscura\, author of Ambient Technology (Metatron Press\, 2018)\, and Kasia Van Schaik\, author of We Have Never Lived On Earth (University of Alberta Press\, 2022). Don’t miss this unforgettable night of poetic magic! \n\n\n\nThe event is free\, but space is limited. \n\n\n\n\n\n\n\n\n\n\n\n\n\n\n\n\nRSVP
URL:https://qwf.org/event/an-evening-with-jay-ritchie-guests/
LOCATION:Librairie Saint-Henri Bookstore\, 4622 Rue Notre-Dame Ouest\, Montreal\, Quebec\, Canada
CATEGORIES:Book Launch,Reading
ATTACH;FMTTYPE=image/jpeg:https://qwf.org/wp-content/uploads/2024/06/Evening-with-Jay-Ritchie-and-Guests.jpg
END:VEVENT
END:VCALENDAR