BEGIN:VCALENDAR
VERSION:2.0
PRODID:-//Quebec Writers&#039; Federation - ECPv6.15.20//NONSGML v1.0//EN
CALSCALE:GREGORIAN
METHOD:PUBLISH
X-ORIGINAL-URL:https://qwf.org
X-WR-CALDESC:Events for Quebec Writers&#039; Federation
REFRESH-INTERVAL;VALUE=DURATION:PT1H
X-Robots-Tag:noindex
X-PUBLISHED-TTL:PT1H
BEGIN:VTIMEZONE
TZID:America/New_York
BEGIN:DAYLIGHT
TZOFFSETFROM:-0500
TZOFFSETTO:-0400
TZNAME:EDT
DTSTART:20230312T070000
END:DAYLIGHT
BEGIN:STANDARD
TZOFFSETFROM:-0400
TZOFFSETTO:-0500
TZNAME:EST
DTSTART:20231105T060000
END:STANDARD
BEGIN:DAYLIGHT
TZOFFSETFROM:-0500
TZOFFSETTO:-0400
TZNAME:EDT
DTSTART:20240310T070000
END:DAYLIGHT
BEGIN:STANDARD
TZOFFSETFROM:-0400
TZOFFSETTO:-0500
TZNAME:EST
DTSTART:20241103T060000
END:STANDARD
BEGIN:DAYLIGHT
TZOFFSETFROM:-0500
TZOFFSETTO:-0400
TZNAME:EDT
DTSTART:20250309T070000
END:DAYLIGHT
BEGIN:STANDARD
TZOFFSETFROM:-0400
TZOFFSETTO:-0500
TZNAME:EST
DTSTART:20251102T060000
END:STANDARD
END:VTIMEZONE
BEGIN:VEVENT
DTSTART;TZID=America/New_York:20240912T123000
DTEND;TZID=America/New_York:20240912T173000
DTSTAMP:20260422T025906
CREATED:20240826T205057Z
LAST-MODIFIED:20240826T205100Z
UID:10004004-1726144200-1726162200@qwf.org
SUMMARY:Business Skills for Creative Souls Artists’ Conference: From Passion to Profit
DESCRIPTION:Thursday\, September 12\, 2024\, 12:30-5:30 pm \n\n\n\nAttention Artists! Dive into a transformative journey at the Business Skills for Creative Souls Artists’ Conference: “From Passion to Profit”! \n\n\n\nTransform your artistic passion into a thriving business! Hosted by Sonali Karnick (Host of CBC’s All in a Weekend)\, Yes Montreal’s Business Skills for Creative Souls Artists’ Conference: From Passion to Profit will take you on an inspiring journey\, from creativity to commercial success. Engage with industry leaders\, learn essential business strategies\, and discover how to monetize your art without compromising your vision. Network with like-minded creatives\, gain practical insights and leave equipped with the tools to turn your artistic dreams into a reality. \n\n\n\nDon’t miss this incredible day of inspiration and networking! \n\n\n\n\nRegister Now
URL:https://qwf.org/event/business-skills-for-creative-souls-artists-conference-from-passion-to-profit/
LOCATION:St. Jax\, 1439 St. Catherine street west\, montreal\, Quebec\, H3G 1S6\, Canada
CATEGORIES:Networking,Panel
ATTACH;FMTTYPE=image/jpeg:https://qwf.org/wp-content/uploads/2024/08/from-passion-to-profit.jpg
END:VEVENT
BEGIN:VEVENT
DTSTART;TZID=America/New_York:20240912T190000
DTEND;TZID=America/New_York:20240912T210000
DTSTAMP:20260422T025906
CREATED:20240820T165926Z
LAST-MODIFIED:20240820T165930Z
UID:10004000-1726167600-1726174800@qwf.org
SUMMARY:Heather O'Neill Launches The Capital of Dreams
DESCRIPTION:September 12\, 2024\, 7:00-9:00 pm\n\n\n\nJoin Heather O’Neill\, Drawn & Quarterly\, and HarperCollins Canada to launch THE CAPITAL OF DREAMS\, a breathtaking dark fairy tale of survival and betrayal from the vivid imagination of Heather O’Neill. \n\n\n\nThe event will take place at 7 pm on Thursday September 12th at La Sala Rossa\, 4848 St Laurent Blvd. \n\n\n\nThe author will appear in conversation with Laurel Sprengelmeyer of Little Scream and there will be a book signing following the presentation. \n\n\n\nPoster by Arizona O’Neill. \n\n\n\nBUY TICKETS: https://www.venuepilot.co/events/101361/orders/new#/BUY THE BOOK: https://shorturl.at/JRsZw \n\n\n\nFourteen-year-old Sofia Bottom lives in a small country that Europe has forgotten. But inside its borders\, the old myths of trees that come alive and fairies who live among their roots have given way to an explosion of the arts and the consolations of philosophy. No one\, from the clarinetists to the cabaret singers\, is as revered as Sofia’s brilliant mother\, the writer Clara Bottom. How can Sofia\, with a tin ear and an enduring love of the old myths\, ever hope to win her mother’s love? \n\n\n\nWhen the country’s greatest enemy invades\, and the Capital is under threat\, at last Clara turns to her daughter. Sofia must smuggle her new manuscript to safety on the last train evacuating children from the city. But the train draws to a suspicious halt in the middle of a forest\, and Sofia runs for her life\, losing her mother’s most prized possession. Frightened and alone in a country at war\, Sofia must find a way to reclaim what she has lost. On an epic journey through woods and razed towns\, colliding with soldiers\, survivors and other lost children\, Sofia must make the choice between kindness and survival. \n\n\n\nIn this stunning dark fairy tale of a novel\, Heather O’Neill reveals once again her mastery of language that is as delicious as cake and as serious as a gunshot. \n\n\n\nHeather O’Neill is a novelist\, short-story writer and essayist. Her most recent novel\, When We Lost Our Heads\, was a #1 national bestseller and a finalist for the Grand Prix du Livre de Montréal. Her previous works include The Lonely Hearts Hotel\, which won the Paragraphe Hugh MacLennan Prize for Fiction and was longlisted for the Women’s Prize for Fiction and CBC’s Canada Reads\, as well as Lullabies for Little Criminals\, The Girl Who Was Saturday Night\, and Daydreams of Angels\, which were shortlisted for the Governor General’s Literary Award for Fiction\, the Orange Prize for Fiction and the Scotiabank Giller Prize two years in a row. O’Neill has also won CBC’s Canada Reads and the Danuta Gleed Award. Born and raised in Montreal\, she lives there today. \n\n\n\nThe Sala Rossa is located on the second floor (there are 38 steps total). There are gender neutral washrooms which are not wheelchair accessible. We have a Hearing Assistance System on the FM dial at 101.1 FM. Please email events@drawnandquarterly.com if you have any accessibility needs we can accommodate.
URL:https://qwf.org/event/heather-oneill-launches-the-capital-of-dreams/
LOCATION:La Sala Rossa\, 4848 St. Laurent Boulevard\, Montreal\, Quebec\, H2T 2R5\, Canada
CATEGORIES:Book Launch
ATTACH;FMTTYPE=image/jpeg:https://qwf.org/wp-content/uploads/2024/08/CapitalOfDreamsPoster.jpg
END:VEVENT
END:VCALENDAR