BEGIN:VCALENDAR
VERSION:2.0
PRODID:-//Quebec Writers&#039; Federation - ECPv6.15.20//NONSGML v1.0//EN
CALSCALE:GREGORIAN
METHOD:PUBLISH
X-ORIGINAL-URL:https://qwf.org
X-WR-CALDESC:Events for Quebec Writers&#039; Federation
REFRESH-INTERVAL;VALUE=DURATION:PT1H
X-Robots-Tag:noindex
X-PUBLISHED-TTL:PT1H
BEGIN:VTIMEZONE
TZID:America/New_York
BEGIN:DAYLIGHT
TZOFFSETFROM:-0500
TZOFFSETTO:-0400
TZNAME:EDT
DTSTART:20230312T070000
END:DAYLIGHT
BEGIN:STANDARD
TZOFFSETFROM:-0400
TZOFFSETTO:-0500
TZNAME:EST
DTSTART:20231105T060000
END:STANDARD
BEGIN:DAYLIGHT
TZOFFSETFROM:-0500
TZOFFSETTO:-0400
TZNAME:EDT
DTSTART:20240310T070000
END:DAYLIGHT
BEGIN:STANDARD
TZOFFSETFROM:-0400
TZOFFSETTO:-0500
TZNAME:EST
DTSTART:20241103T060000
END:STANDARD
BEGIN:DAYLIGHT
TZOFFSETFROM:-0500
TZOFFSETTO:-0400
TZNAME:EDT
DTSTART:20250309T070000
END:DAYLIGHT
BEGIN:STANDARD
TZOFFSETFROM:-0400
TZOFFSETTO:-0500
TZNAME:EST
DTSTART:20251102T060000
END:STANDARD
END:VTIMEZONE
BEGIN:VEVENT
DTSTART;TZID=America/New_York:20240924T190000
DTEND;TZID=America/New_York:20240924T190000
DTSTAMP:20260424T104111
CREATED:20240808T155213Z
LAST-MODIFIED:20240808T155219Z
UID:10003986-1727204400-1727204400@qwf.org
SUMMARY:Alice Zorn launches Colours in Her Hands
DESCRIPTION:Tuesday\, September 24\, 2024\, 7:00 pm ETLibrairie Pulp Books\, Montreal\n\n\n\nBook Launch! Local author Alice Zorn in conversation with Elise Moser for the launch of Alice’s new novel\, Colours in Her Hands. September 24th\, 7PM. Please RSVP to secure your spot. \n\n\n\nAbout Colours in Her Hands: \n\n\n\nWhat is intellectual disability? Ask Bruno\, who is at his wits’ end trying to predict what his sister\, Mina\, will do next. Ask Iris\, who is entranced by the wildly inventive embroidery Mina creates. Ask Gabriela\, who loves Mina and disagrees when Bruno uses Mina’s constant demands as an excuse not to have a child. Meet Mina in her overstuffed Montreal apartment\, surrounded by her treasures. She knows she is the best paper sorter at the recycling plant where she works. She is proud to be diabetic but equally happy to cheat on her diet. The colours she stitches hum with life. Colours in Her Hands is a nuanced and thought-provoking novel about family\, about art\, about questioning the way the world treats those who are different. With an unforgettable voice\, Mina navigates the labyrinth that society sets for her with dignity\, inventiveness\, and aplomb.
URL:https://qwf.org/event/alice-zorn-launches-colours-in-her-hands/
LOCATION:Librairie Pulp Books & Cafe\, 3952 Wellington Street\, Montreal\, Quebec\, H4G1V3\, Canada
CATEGORIES:Book Launch
ATTACH;FMTTYPE=image/png:https://qwf.org/wp-content/uploads/2024/08/ColoursInHerHands_EventGraphics_2_Square-1.png
END:VEVENT
END:VCALENDAR