BEGIN:VCALENDAR
VERSION:2.0
PRODID:-//Quebec Writers&#039; Federation - ECPv6.15.20//NONSGML v1.0//EN
CALSCALE:GREGORIAN
METHOD:PUBLISH
X-WR-CALNAME:Quebec Writers&#039; Federation
X-ORIGINAL-URL:https://qwf.org
X-WR-CALDESC:Events for Quebec Writers&#039; Federation
REFRESH-INTERVAL;VALUE=DURATION:PT1H
X-Robots-Tag:noindex
X-PUBLISHED-TTL:PT1H
BEGIN:VTIMEZONE
TZID:America/New_York
BEGIN:DAYLIGHT
TZOFFSETFROM:-0500
TZOFFSETTO:-0400
TZNAME:EDT
DTSTART:20230312T070000
END:DAYLIGHT
BEGIN:STANDARD
TZOFFSETFROM:-0400
TZOFFSETTO:-0500
TZNAME:EST
DTSTART:20231105T060000
END:STANDARD
BEGIN:DAYLIGHT
TZOFFSETFROM:-0500
TZOFFSETTO:-0400
TZNAME:EDT
DTSTART:20240310T070000
END:DAYLIGHT
BEGIN:STANDARD
TZOFFSETFROM:-0400
TZOFFSETTO:-0500
TZNAME:EST
DTSTART:20241103T060000
END:STANDARD
BEGIN:DAYLIGHT
TZOFFSETFROM:-0500
TZOFFSETTO:-0400
TZNAME:EDT
DTSTART:20250309T070000
END:DAYLIGHT
BEGIN:STANDARD
TZOFFSETFROM:-0400
TZOFFSETTO:-0500
TZNAME:EST
DTSTART:20251102T060000
END:STANDARD
END:VTIMEZONE
BEGIN:VEVENT
DTSTART;TZID=America/New_York:20241006T103000
DTEND;TZID=America/New_York:20241006T163000
DTSTAMP:20260424T225340
CREATED:20240731T185247Z
LAST-MODIFIED:20240801T171234Z
UID:10003983-1728210600-1728232200@qwf.org
SUMMARY:Writing Real Life for Children: Conjuring Up Creative Non-fiction for Young Readers
DESCRIPTION:Sunday\, Oct 6\, 10:30am-4:30pmOpen to allLimited to 12 participantsHybrid Workshop* \n\n\n\nFrom a solid foundation of facts\, unleash your fancy…  \n\n\n\nThis workshop offers a framework for writers of any level of experience to explore their own passions\, interests\, and experiences through the concise format of a picture book manuscript. \n\n\n\nWhat fascinates you—and how can you write it to spark enthusiasm and imaginations among our children and youth? \n\n\n\nOver the course of the day\, we will  \n\n\n\n\nexamine superb examples of creative non-fiction picture books\, and\n\n\n\nengage in guided writing exercises that will encourage you to define your own key messages\, through topics such as current events\, history\, biography\, travel/culture\, science\, math\, art\, music\, movement\, sports\, family stories… \n\n\n\n\nYou’ll come away with inspiration\, drafted ideas\, and a plan to bring your creative non-fiction picture book manuscript to completion. \n\n\n\n*This workshop will take place at the QWF Office (Room 3\, 1200 Atwater Avenue\, Westmount\, Quebec) with up to 2 virtual spots for participants who are unable to attend in-person. By default\, all workshop registrations are for in-person spots. If you would like to attend the workshop via Zoom\, first email Riley (riley@qwf.org) to see if online spots are still available for this workshop\, and then wait for confirmation. Virtual spots are limited and are reserved for people who either live outside Montreal or have a medical condition. \n\n\n\nRaquel Rivera’s books for children and young adults have won the QWF Prize for Children’s and YA Literature twice; been nominated for the Red Cedar Book Award\, Silver Birch\, Forest of Reading awards and the Rocky Mountain Book Award; and were selected for CCBC Best Books for Kids & Teens (starred selection)\, USBBY Outstanding International Books)\, and Quill & Quire’s “Best of 2007.” Raquel has lived and worked in Washington DC\, Kuala Lumpur\, Singapore\, Barcelona\, and Toronto (where she was born and raised as a first-generation Canadian). Raquel’s own mixed heritage inspires her search for new ways of thinking and dreaming. Cultures in cooperation is the theme that runs through her writing. \n\n\n\n\nhttp://raquelriverawashere.com\n\n\n\nhttp://artistsinspire.ca\n\n\n\nhttp://hireawriter.ca\n\n\n\nhttp://facebook.com
URL:https://qwf.org/event/writing-real-life-for-children-conjuring-up-creative-non-fiction-for-young-readers/
LOCATION:QWF Office\, 1200 Atwater Avenue\, Room 3\, Westmount\, QC\, H3Z 1X4\, Canada
CATEGORIES:QWF Workshops,Workshops
ATTACH;FMTTYPE=image/png:https://qwf.org/wp-content/uploads/2024/07/Writing-the-Personal-Essay4.png
GEO:45.4886431;-73.5864377
X-APPLE-STRUCTURED-LOCATION;VALUE=URI;X-ADDRESS=QWF Office 1200 Atwater Avenue Room 3 Westmount QC H3Z 1X4 Canada;X-APPLE-RADIUS=500;X-TITLE=1200 Atwater Avenue\, Room 3:geo:-73.5864377,45.4886431
END:VEVENT
END:VCALENDAR