BEGIN:VCALENDAR
VERSION:2.0
PRODID:-//Quebec Writers&#039; Federation - ECPv6.15.20//NONSGML v1.0//EN
CALSCALE:GREGORIAN
METHOD:PUBLISH
X-WR-CALNAME:Quebec Writers&#039; Federation
X-ORIGINAL-URL:https://qwf.org
X-WR-CALDESC:Events for Quebec Writers&#039; Federation
REFRESH-INTERVAL;VALUE=DURATION:PT1H
X-Robots-Tag:noindex
X-PUBLISHED-TTL:PT1H
BEGIN:VTIMEZONE
TZID:America/New_York
BEGIN:DAYLIGHT
TZOFFSETFROM:-0500
TZOFFSETTO:-0400
TZNAME:EDT
DTSTART:20230312T070000
END:DAYLIGHT
BEGIN:STANDARD
TZOFFSETFROM:-0400
TZOFFSETTO:-0500
TZNAME:EST
DTSTART:20231105T060000
END:STANDARD
BEGIN:DAYLIGHT
TZOFFSETFROM:-0500
TZOFFSETTO:-0400
TZNAME:EDT
DTSTART:20240310T070000
END:DAYLIGHT
BEGIN:STANDARD
TZOFFSETFROM:-0400
TZOFFSETTO:-0500
TZNAME:EST
DTSTART:20241103T060000
END:STANDARD
BEGIN:DAYLIGHT
TZOFFSETFROM:-0500
TZOFFSETTO:-0400
TZNAME:EDT
DTSTART:20250309T070000
END:DAYLIGHT
BEGIN:STANDARD
TZOFFSETFROM:-0400
TZOFFSETTO:-0500
TZNAME:EST
DTSTART:20251102T060000
END:STANDARD
END:VTIMEZONE
BEGIN:VEVENT
DTSTART;TZID=America/New_York:20241202T193000
DTEND;TZID=America/New_York:20241202T210000
DTSTAMP:20260425T194332
CREATED:20241114T141428Z
LAST-MODIFIED:20241125T171902Z
UID:10004054-1733167800-1733173200@qwf.org
SUMMARY:Artefacts: Poetry Soirée and Book Launch
DESCRIPTION:Monday\, December 2\, 20247:30-9:00 pm ET\n\n\n\nCalling all poets and poetry enthusiasts! \n\n\n\nJoin us on Monday\, December 2 for a special evening to celebrate the Quebec City launch of two poetry books: ice\, dove\, parachute by Loch Baillie and Spade Work by Line Dufour. \n\n\n\nAn open mic will follow—come to read your poetry or come to listen. This event is free and all are welcome! If you have any questions\, please contact library@morrin.org. \n\n\n\n\n\n\n\n\n\n\n\nOriginally from Worcester\, Massachusetts\, LOCH BAILLIE (he/il) is a queer poet and writer living on the south shore of Quebec City. He is the author of two poetry chapbooks\, ice\, dove\, parachute (Cactus Press) and Citronella (Anstruther Press). His writing has additionally appeared in magazines such as Maclean’s\, Font\, Society Pages\, and yolk literary. Loch is currently pursuing his MA in English literature at Université Laval and serves as Poet-in-Residence for Canada’s Jarislowsky Chair of Undergraduate Teaching Excellence. You can find him online @lochbaillie or by visiting www.lochbaillie.com. \n\n\n\n\n\n\n\nLINE DUFOUR has been a professional artist for the last thirty years\, exhibiting internationally. She has taken creative writing courses at the University of Toronto since 2016 during which time she also completed the Humber School for Writers program and obtained a Masters with Distinction in Creative Writing and Critical Thinking from University of Gloucestershire. In 2024\, she obtained her Certificate in Creative Writing from the School of Continuing studies from the University of Toronto. Her short story “Exile” has appeared in two anthologies: Raconter ton histoire\, published by La Maison de la Littérature in Quebec City\, and A World of Difference\, published by the University of Gloucestershire. Several of her poems were also included in the former publication. Queen’s Quarterly published her poem “Finding the Words\,” along with the accompanying artwork\, in its April 2024 issue. Her short story\, Asylum\, was longlisted for the 2023 CBC Nonfiction short story prize. Besides writing fiction\, short stories\, and poetry\, she has written non-fiction articles\, such as book reviews and interviews\, that were published in textile (art and craft) magazines for the last fifteen years. \n\n\n\n\n\n\n\n\n\n\n\n\nView event: Morrin.org
URL:https://qwf.org/event/artefacts-poetry-soiree-and-book-launch/
LOCATION:Morrin Centre\, 44 Chaussée des Écossais\, Quebec City\, Quebec\, G1R 4H3\, Canada
CATEGORIES:Bilingual/Multilingual,Book Launch
ATTACH;FMTTYPE=image/jpeg:https://qwf.org/wp-content/uploads/2024/11/Artefacts_Poetry-Event-at-Morrin-Centre.jpg
END:VEVENT
END:VCALENDAR