BEGIN:VCALENDAR
VERSION:2.0
PRODID:-//Quebec Writers&#039; Federation - ECPv6.15.20//NONSGML v1.0//EN
CALSCALE:GREGORIAN
METHOD:PUBLISH
X-ORIGINAL-URL:https://qwf.org
X-WR-CALDESC:Events for Quebec Writers&#039; Federation
REFRESH-INTERVAL;VALUE=DURATION:PT1H
X-Robots-Tag:noindex
X-PUBLISHED-TTL:PT1H
BEGIN:VTIMEZONE
TZID:America/New_York
BEGIN:DAYLIGHT
TZOFFSETFROM:-0500
TZOFFSETTO:-0400
TZNAME:EDT
DTSTART:20240310T070000
END:DAYLIGHT
BEGIN:STANDARD
TZOFFSETFROM:-0400
TZOFFSETTO:-0500
TZNAME:EST
DTSTART:20241103T060000
END:STANDARD
BEGIN:DAYLIGHT
TZOFFSETFROM:-0500
TZOFFSETTO:-0400
TZNAME:EDT
DTSTART:20250309T070000
END:DAYLIGHT
BEGIN:STANDARD
TZOFFSETFROM:-0400
TZOFFSETTO:-0500
TZNAME:EST
DTSTART:20251102T060000
END:STANDARD
BEGIN:DAYLIGHT
TZOFFSETFROM:-0500
TZOFFSETTO:-0400
TZNAME:EDT
DTSTART:20260308T070000
END:DAYLIGHT
BEGIN:STANDARD
TZOFFSETFROM:-0400
TZOFFSETTO:-0500
TZNAME:EST
DTSTART:20261101T060000
END:STANDARD
END:VTIMEZONE
BEGIN:VEVENT
DTSTART;TZID=America/New_York:20250601T130000
DTEND;TZID=America/New_York:20250601T153000
DTSTAMP:20260425T214640
CREATED:20250507T165638Z
LAST-MODIFIED:20250507T180835Z
UID:10004342-1748782800-1748791800@qwf.org
SUMMARY:Dreamwork Salon (In Person)
DESCRIPTION:This experiential workshop offers an introduction to the practice of group dreamwork. It’s for anyone who’s interested in their dreams\, and open to new ways of working with them in a group context  —no particular experience required. Centring creativity and collaboration\, I’ll present a number of ways to work with dreams\, inspired by Montague Ullman’s “dream appreciation\,” Jungian dreamwork\, and more. Together\, we’ll apply these techniques to the dreams that group members bring; registration is capped at six so that everyone who wants to share will have a turn. Sign up\, and learn about other group dreamwork offerings\, at bit.ly/dreamsalon or write to Heather White at groupdreamwork@gmail.com.
URL:https://qwf.org/event/dreamwork-salon-in-person/
LOCATION:Surya Montreal\, 903 Rue Saint-Zotique Est\, Montreal\, Quebec\, Canada
CATEGORIES:Storytelling,Workshops
ATTACH;FMTTYPE=image/jpeg:https://qwf.org/wp-content/uploads/2025/05/dreamworksalonflyer32541a.jpg
END:VEVENT
BEGIN:VEVENT
DTSTART;TZID=America/New_York:20250601T140000
DTEND;TZID=America/New_York:20250601T160000
DTSTAMP:20260425T214640
CREATED:20250520T182550Z
LAST-MODIFIED:20250523T180347Z
UID:10004356-1748786400-1748793600@qwf.org
SUMMARY:2025 QWF Mentorship Reading
DESCRIPTION:June 1\, 2025\, 2:00–4:00 pm ETCentre Sanaaq (1200 Rue du Sussex\, Montreal)Free\, RSVP Required (SOLD OUT)\n\n\n\n\nRSVP\n\n\n\n\n\n\n\n\nJoin us for the 2025 QWF Mentorship Reading! \n\n\n\nFor four months\, eight emerging writers and one emerging translator have worked to hone their craft through the QWF Mentorship Program. Each has received one-on-one guidance from a professional mentor to help them transition to the next stage of their careers. Now\, their journey culminates in a public reading where each mentee will present an excerpt from their work in progress. \n\n\n\nThis year will feature our first-ever Youth Mentorship pair\, a pilot project organized through our Writers in the Community program. With nine readers\, it will be our largest mentorship reading yet. Don’t miss it! \n\n\n\nFeaturing: \n\n\n\n\nCameryn Cappellazzo\, mentored by D. W. Wilson in Fiction\n\n\n\nKat Mulligan\, mentored by April Ford in Fiction\n\n\n\nTamsyn Farr\, mentored by D. M. Bradford in Poetry\n\n\n\nJade Palmer\, mentored by stephanie roberts in Poetry\n\n\n\nShelly Bahng\, mentored by Gerald Wexler in Screenwriting\n\n\n\nRay Resvick\, mentored by Jacob Potashnik in Screenwriting\n\n\n\nChristopher Beaunoyer\, mentored by Luba Markovskaia in Literary Translation (Jean Antonin Billard LTAC/QWF Mentorship)\n\n\n\nAfreina Noor\, mentored by Kama La Mackerel in Spoken Word (Mairuth Sarsfield Mentorship)\n\n\n\nThaia:iake Lazare\, mentored by L.E. Sterling (Inaugural QWF Youth Mentorship)\n\n\n\n\nRSVPs are required due to limited space.Everyone who RSVPs will be put on the event guest list. If there are extra seats available the day of the event\, people who have not RSVPed will be admitted at the door on a first-come\, first-served basis. \n\n\n\nAccessibility: The Centre Sanaaq is a universally accessible public building. Room 3 is on the second floor\, accessible by stairs or elevator. People using adapted transport can ask to be dropped off at the paratransit drop-off zone in front of the main entrance\, near the outdoor access ramp. \n\n\n\nAbout the QWF Mentorship Program\n\n\n\nThe QWF Mentorships are designed to help promising emerging writers make the transition to the next stage of their careers. Over a period of four months\, each mentee received one-on-one guidance and support from a professional writing mentor. Now\, their journey culminates in a public reading where the mentees present an excerpt of their works-in-progress. Learn more about the QWF Mentorship Program. \n\n\n\n\n\n\n\n\n\n\n\n\n\n\nRSVP
URL:https://qwf.org/event/2025-qwf-mentorship-reading/
LOCATION:Centre Sanaaq\, 1200 Rue du Sussex\, Montreal\, Quebec\, H3H 0E3\, Canada
CATEGORIES:Mentorship Reading,Performance,QWF Events,Reading
ATTACH;FMTTYPE=image/png:https://qwf.org/wp-content/uploads/2025/05/2025-QWF-Mentorship-Reading.png
END:VEVENT
BEGIN:VEVENT
DTSTART;TZID=America/New_York:20250601T190000
DTEND;TZID=America/New_York:20250601T230000
DTSTAMP:20260425T214640
CREATED:20250512T143540Z
LAST-MODIFIED:20250512T143547Z
UID:10004344-1748804400-1748818800@qwf.org
SUMMARY:Headlight Anthology Issue 26: Edge Launch
DESCRIPTION:Come celebrate the launch of Issue 26 of Concordia’s graduate literary journal\, Headlight Anthology. The evening will feature readings from this issue’s contributors\, as well as an open mic portion at the end of the night.  \nFeaturing readings by:\nRebecca Hister\nBryan Lee\nRebecca Lawrence Lynch\nInuya D’Vorah Schultz\nXander Simmons\nKyra Sutton\nNicky Taylor  \nDoors open at 6:30. An entry fee of $5 is suggested\, but no one will be turned away for a lack of funds. Copies of Issue 26 will also be sold!
URL:https://qwf.org/event/headlight-anthology-issue-26-edge-launch/
LOCATION:la courtepointe\, 220 Rue Villeray\, Montreal\, H2R2B5
CATEGORIES:Book Launch,Open Mic
ATTACH;FMTTYPE=image/jpeg:https://qwf.org/wp-content/uploads/2025/05/EB8FAFE0-66CA-4ADA-BB9E-E69CA7F74A7B.jpeg
END:VEVENT
END:VCALENDAR