BEGIN:VCALENDAR
VERSION:2.0
PRODID:-//Quebec Writers&#039; Federation - ECPv6.15.20//NONSGML v1.0//EN
CALSCALE:GREGORIAN
METHOD:PUBLISH
X-ORIGINAL-URL:https://qwf.org
X-WR-CALDESC:Events for Quebec Writers&#039; Federation
REFRESH-INTERVAL;VALUE=DURATION:PT1H
X-Robots-Tag:noindex
X-PUBLISHED-TTL:PT1H
BEGIN:VTIMEZONE
TZID:America/New_York
BEGIN:DAYLIGHT
TZOFFSETFROM:-0500
TZOFFSETTO:-0400
TZNAME:EDT
DTSTART:20240310T070000
END:DAYLIGHT
BEGIN:STANDARD
TZOFFSETFROM:-0400
TZOFFSETTO:-0500
TZNAME:EST
DTSTART:20241103T060000
END:STANDARD
BEGIN:DAYLIGHT
TZOFFSETFROM:-0500
TZOFFSETTO:-0400
TZNAME:EDT
DTSTART:20250309T070000
END:DAYLIGHT
BEGIN:STANDARD
TZOFFSETFROM:-0400
TZOFFSETTO:-0500
TZNAME:EST
DTSTART:20251102T060000
END:STANDARD
BEGIN:DAYLIGHT
TZOFFSETFROM:-0500
TZOFFSETTO:-0400
TZNAME:EDT
DTSTART:20260308T070000
END:DAYLIGHT
BEGIN:STANDARD
TZOFFSETFROM:-0400
TZOFFSETTO:-0500
TZNAME:EST
DTSTART:20261101T060000
END:STANDARD
END:VTIMEZONE
BEGIN:VEVENT
DTSTART;TZID=America/New_York:20250922T080000
DTEND;TZID=America/New_York:20251031T170000
DTSTAMP:20260421T040031
CREATED:20250915T161446Z
LAST-MODIFIED:20250915T201625Z
UID:10004571-1758528000-1761930000@qwf.org
SUMMARY:Bring Your Story to Life: Novel Writing Course with Mentorship & Group Support
DESCRIPTION:The Unbearable Lightness of Novel Writing – 6-Week Course Starting Sept 22  \nBlending online learning\, group work\, and one-on-one mentoring. \nLearn the fundamentals of novel writing—character\, plot\, setting—while developing your writer’s instinct for when a story’s working and when it isn’t. This six-week course will build your confidence as a writer in a fun\, safe\, and dynamic atmosphere where you’ll learn from each other while crafting your own story. \nThe course will cover: \nCharacter development and compelling dialogue\nPlot structure and narrative tension\nSetting and worldbuilding\nShow\, don’t tell techniques\nPacing and story flow\nSensory descriptions that captivate readers\nOvercoming writer’s block\nManuscript polishing strategies \nDiscover the story that’s waiting for you to tell it.​ \nYou’ll receive individual mentoring sessions\, group feedback\, and practical techniques that save time. By course end\, you’ll have a complete toolkit for crafting memorable stories and the confidence to move forward with your novel. \nTestimonials \nLissa is approachable and supportive while providing detailed\, specific feedback on student writing. She offers guidance that respects and applauds student voice. I felt seen and heard by this fantastic coach in the course I took with her. –Angela Mason \nWorking with Lissa Cowan was a transformative experience in bringing  Power of Fear to life. –P.W. Brown \nIf you’re looking for a course that will help you develop your voice while giving you the tools to shape your story\, I can’t recommend Lissa enough. –Antoinette Bekker (MFA) \n Space is limited. Course begins September 22. $399 until September 15.
URL:https://qwf.org/event/bring-your-story-to-life-novel-writing-course-with-mentorship-group-support/
LOCATION:Quebec
ATTACH;FMTTYPE=image/png:https://qwf.org/wp-content/uploads/2025/09/Novel-writing-course.png
END:VEVENT
END:VCALENDAR