BEGIN:VCALENDAR
VERSION:2.0
PRODID:-//Quebec Writers&#039; Federation - ECPv6.15.20//NONSGML v1.0//EN
CALSCALE:GREGORIAN
METHOD:PUBLISH
X-WR-CALNAME:Quebec Writers&#039; Federation
X-ORIGINAL-URL:https://qwf.org
X-WR-CALDESC:Events for Quebec Writers&#039; Federation
REFRESH-INTERVAL;VALUE=DURATION:PT1H
X-Robots-Tag:noindex
X-PUBLISHED-TTL:PT1H
BEGIN:VTIMEZONE
TZID:America/New_York
BEGIN:DAYLIGHT
TZOFFSETFROM:-0500
TZOFFSETTO:-0400
TZNAME:EDT
DTSTART:20250309T070000
END:DAYLIGHT
BEGIN:STANDARD
TZOFFSETFROM:-0400
TZOFFSETTO:-0500
TZNAME:EST
DTSTART:20251102T060000
END:STANDARD
BEGIN:DAYLIGHT
TZOFFSETFROM:-0500
TZOFFSETTO:-0400
TZNAME:EDT
DTSTART:20260308T070000
END:DAYLIGHT
BEGIN:STANDARD
TZOFFSETFROM:-0400
TZOFFSETTO:-0500
TZNAME:EST
DTSTART:20261101T060000
END:STANDARD
BEGIN:DAYLIGHT
TZOFFSETFROM:-0500
TZOFFSETTO:-0400
TZNAME:EDT
DTSTART:20270314T070000
END:DAYLIGHT
BEGIN:STANDARD
TZOFFSETFROM:-0400
TZOFFSETTO:-0500
TZNAME:EST
DTSTART:20271107T060000
END:STANDARD
END:VTIMEZONE
BEGIN:VEVENT
DTSTART;TZID=America/New_York:20260417T123000
DTEND;TZID=America/New_York:20260417T150000
DTSTAMP:20260424T212804
CREATED:20260320T163000Z
LAST-MODIFIED:20260331T140408Z
UID:10004854-1776429000-1776438000@qwf.org
SUMMARY:Shut Up & Write! with QWF (In Person)
DESCRIPTION:  \n\n\n\n\n\n\nFriday\, April 17\, 2026\, 12:30 pm–3:00 pmFree\, In PersonQWF Office (Room 3\, 1200 Atwater Ave.\, Westmount)\n\n\n\nRegister for the session by filling out the RSVP form below. \n\n\n\nLooking for some dedicated\, quiet writing space? \n\n\n\nJoin us for an in-person Shut Up & Write session at the QWF office! \n\n\n\nDo all that writing you’ve been meaning to do\, and meet a few of your fellow QWF members. Using the Pomodoro technique\, participants write in 25-minute bursts\, with 5-minute breaks in between. \n\n\n\nThis event is for QWF members only. Not a member? Learn about becoming a member.  \n\n\n\nPlease note that these sessions are designed for silent writing\, rather than discussing or getting feedback on work. \n\n\n\n12:30–12:55: Writing 112:55–1:00: Break1:00–1:25: Writing 21:25–1:30: Break1:30–1:55: Writing 31:55–2:00: Break2:00–2:25: Writing 42:25–2:30: Break2:30–2:55: Writing 5 \n\n\n\nTo register\, RSVP below. \n\n\n\n\n\n\n\nGetting to the QWF Office\n\n\n\nOur office is located on the top floor of the Atwater Library and Computer Centre\, in Room 3. \n\n\n\nAddress: 1200 Atwater Avenue\, Room 3Westmount\, QC H3Z 1X4 \n\n\n\nClosest Metro: Atwater Station \n\n\n\nClosest Bus lines: 24\, 63\, 90\, 104\, 138\, 144\, 150 \n\n\n\nAccessibility:\n\n\n\nThe QWF Office is fully accessible by wheelchair from the side entrance on Tupper Street. Once inside\, there is an elevator to the second floor\, where the QWF office is. \n\n\n\nLearn more about the office location and accessibility. \n\n\n\n\n\n\n\n\n\n\n\n\n\n\n\nThis session is now full. To be put on the waitlist\, email John Wickham at john@qwf.org. \n\n\n\nIf you registered for the session but can no longer attend\, please email john@qwf.org.
URL:https://qwf.org/event/shut-up-write-with-qwf-in-person-58/
LOCATION:QWF Office\, 1200 Atwater Avenue\, Room 3\, Westmount\, QC\, H3Z 1X4\, Canada
CATEGORIES:Shut Up & Write!
ATTACH;FMTTYPE=image/png:https://qwf.org/wp-content/uploads/2021/04/Shut-Up-Write.png
GEO:45.4886431;-73.5864377
X-APPLE-STRUCTURED-LOCATION;VALUE=URI;X-ADDRESS=QWF Office 1200 Atwater Avenue Room 3 Westmount QC H3Z 1X4 Canada;X-APPLE-RADIUS=500;X-TITLE=1200 Atwater Avenue\, Room 3:geo:-73.5864377,45.4886431
END:VEVENT
BEGIN:VEVENT
DTSTART;TZID=America/New_York:20260417T190000
DTEND;TZID=America/New_York:20260417T210000
DTSTAMP:20260424T212804
CREATED:20260410T174625Z
LAST-MODIFIED:20260410T175307Z
UID:10004922-1776452400-1776459600@qwf.org
SUMMARY:Book Launch & Art Exhibition with Live Music and Cocktail—Free Admission
DESCRIPTION:Have you ever loved so deeply that it left an echo? \nHave you ever tried to let go only to find pieces of them still tangled in your soul? \nThen this event is for you! \nJoin us on April 17\, 19:00–21:00 for a special evening celebrating the launch and signing of Ebbs and Flows of the Heart by Chedia El Khouri. \nMixed Media Art Exhibition \nLive Music by RachelDara \nComplimentary Cocktail \nQ&A Session hosted by poet Samara O’Gorman \nViva Vida Art Gallery and Art Centre in the heart of the Pointe Claire Village \nFREE ADMISSION \nCome experience an inspiring night of art\, poetry\, and connection. We look forward to seeing you there!
URL:https://qwf.org/event/book-launch-art-exhibition-with-live-music-and-cocktail-free-admission/
LOCATION:Viva Vida Art Gallery\, 278 Lakeshore Road\, suite 2\, Pointe-Claire\, Quebec\, H9S 4K9\, Canada
CATEGORIES:Book Launch
ATTACH;FMTTYPE=image/png:https://qwf.org/wp-content/uploads/2026/04/ebbs-6.png
END:VEVENT
END:VCALENDAR