BEGIN:VCALENDAR
VERSION:2.0
PRODID:-//Quebec Writers&#039; Federation - ECPv6.15.20//NONSGML v1.0//EN
CALSCALE:GREGORIAN
METHOD:PUBLISH
X-ORIGINAL-URL:https://qwf.org
X-WR-CALDESC:Events for Quebec Writers&#039; Federation
REFRESH-INTERVAL;VALUE=DURATION:PT1H
X-Robots-Tag:noindex
X-PUBLISHED-TTL:PT1H
BEGIN:VTIMEZONE
TZID:America/New_York
BEGIN:DAYLIGHT
TZOFFSETFROM:-0500
TZOFFSETTO:-0400
TZNAME:EDT
DTSTART:20240310T070000
END:DAYLIGHT
BEGIN:STANDARD
TZOFFSETFROM:-0400
TZOFFSETTO:-0500
TZNAME:EST
DTSTART:20241103T060000
END:STANDARD
BEGIN:DAYLIGHT
TZOFFSETFROM:-0500
TZOFFSETTO:-0400
TZNAME:EDT
DTSTART:20250309T070000
END:DAYLIGHT
BEGIN:STANDARD
TZOFFSETFROM:-0400
TZOFFSETTO:-0500
TZNAME:EST
DTSTART:20251102T060000
END:STANDARD
BEGIN:DAYLIGHT
TZOFFSETFROM:-0500
TZOFFSETTO:-0400
TZNAME:EDT
DTSTART:20260308T070000
END:DAYLIGHT
BEGIN:STANDARD
TZOFFSETFROM:-0400
TZOFFSETTO:-0500
TZNAME:EST
DTSTART:20261101T060000
END:STANDARD
END:VTIMEZONE
BEGIN:VEVENT
DTSTART;TZID=America/New_York:20251011T140000
DTEND;TZID=America/New_York:20251011T160000
DTSTAMP:20260422T223726
CREATED:20251003T182854Z
LAST-MODIFIED:20251003T182859Z
UID:10004608-1760191200-1760198400@qwf.org
SUMMARY:Launch of Tanya Bellehumeur-Allatt’s new poetry collection The Hospitality of Trees (Shoreline Press). In conversation with Rebecca Păpucaru
DESCRIPTION:Saturday\, October 11\, 2:00 to 4:00 pm at Black Cat Books\, 168E Rue Queen\, Lennoxville: Launch of Tanya Bellehumeur-Allatt’s new poetry collection The Hospitality of Trees (Shoreline Press). In conversation with Rebecca Păpucaru\, author of the novel\, As Good a Place as Any (Guernica Editions). Rebecca will also read from her novel. Wine and goodies and books for sale!
URL:https://qwf.org/event/launch-of-tanya-bellehumeur-allatts-new-poetry-collection-the-hospitality-of-trees-shoreline-press-in-conversation-with-rebecca-papucaru/
LOCATION:Quebec
CATEGORIES:Book Launch,Reading
ATTACH;FMTTYPE=image/jpeg:https://qwf.org/wp-content/uploads/2025/10/557744513_1229211505898972_6844798880688694412_n.jpg
END:VEVENT
END:VCALENDAR