BEGIN:VCALENDAR
VERSION:2.0
PRODID:-//Quebec Writers&#039; Federation - ECPv6.15.20//NONSGML v1.0//EN
CALSCALE:GREGORIAN
METHOD:PUBLISH
X-ORIGINAL-URL:https://qwf.org
X-WR-CALDESC:Events for Quebec Writers&#039; Federation
REFRESH-INTERVAL;VALUE=DURATION:PT1H
X-Robots-Tag:noindex
X-PUBLISHED-TTL:PT1H
BEGIN:VTIMEZONE
TZID:America/New_York
BEGIN:DAYLIGHT
TZOFFSETFROM:-0500
TZOFFSETTO:-0400
TZNAME:EDT
DTSTART:20240310T070000
END:DAYLIGHT
BEGIN:STANDARD
TZOFFSETFROM:-0400
TZOFFSETTO:-0500
TZNAME:EST
DTSTART:20241103T060000
END:STANDARD
BEGIN:DAYLIGHT
TZOFFSETFROM:-0500
TZOFFSETTO:-0400
TZNAME:EDT
DTSTART:20250309T070000
END:DAYLIGHT
BEGIN:STANDARD
TZOFFSETFROM:-0400
TZOFFSETTO:-0500
TZNAME:EST
DTSTART:20251102T060000
END:STANDARD
BEGIN:DAYLIGHT
TZOFFSETFROM:-0500
TZOFFSETTO:-0400
TZNAME:EDT
DTSTART:20260308T070000
END:DAYLIGHT
BEGIN:STANDARD
TZOFFSETFROM:-0400
TZOFFSETTO:-0500
TZNAME:EST
DTSTART:20261101T060000
END:STANDARD
END:VTIMEZONE
BEGIN:VEVENT
DTSTART;TZID=America/New_York:20251018T100000
DTEND;TZID=America/New_York:20251018T100000
DTSTAMP:20260422T064141
CREATED:20250908T195358Z
LAST-MODIFIED:20250908T195550Z
UID:10004572-1760781600-1760781600@qwf.org
SUMMARY:Book Launch—Messioph: The First Book of Ido by Geoffreyjen Edwards
DESCRIPTION:Saturday\, October 18\, 2025\, 10:00 amFounders Room\, Brookstreet Hotel (525 Legget Dr)\, Ottawa\n\n\n\nJoin Geoffreyjen Edwards for the launch of Messioph: The First Book of Ido (Untimely Books). As part of the Can-Con Science Fiction Convention in Ottawa\, Geoffreyjen Edwards will be launching his latest science-fiction novel on October 18th\, 10:00 am\, at the Founders Room of the Brookstreet Hotel. \n\n\n\n The event will consist of a short reading\, a small reception and book signings. \n\n\n\nAbout the Book\n\n\n\nSome family secrets destroy civilizations… What if such an evil follows humanity across the stars? \n\n\n\nCatastrophe strikes when Grolier Desius and his brother return from a confrontation with their family’s bitter enemy aboard a jonah—one of the living starships whose ancestors once roamed the oceans of Old Earth. As Grolier navigates the chaos\, he uncovers devastating truths about his family’s past. He must race through a web of family betrayals and institutional cover-ups\, confronting how intimate violence can become a civilization-threatening threat. His decisions will determine whether the bonds holding humanity and the ancient jonahs together can survive the deadly legacy of buried trauma. Messioph: The First Book of Ido\, the second volume in Geoffreyjen Edwards’s fifteen-book Ido Chronicles\, explores how personal wounds can lead to political crises.
URL:https://qwf.org/event/book-launch-messioph-the-first-book-of-ido-by-geoffreyjen-edwards/
LOCATION:Quebec
CATEGORIES:Book Launch,Festival
ATTACH;FMTTYPE=image/jpeg:https://qwf.org/wp-content/uploads/2025/09/IMG_9583.jpeg
END:VEVENT
END:VCALENDAR