BEGIN:VCALENDAR
VERSION:2.0
PRODID:-//Quebec Writers&#039; Federation - ECPv6.15.20//NONSGML v1.0//EN
CALSCALE:GREGORIAN
METHOD:PUBLISH
X-WR-CALNAME:Quebec Writers&#039; Federation
X-ORIGINAL-URL:https://qwf.org
X-WR-CALDESC:Events for Quebec Writers&#039; Federation
REFRESH-INTERVAL;VALUE=DURATION:PT1H
X-Robots-Tag:noindex
X-PUBLISHED-TTL:PT1H
BEGIN:VTIMEZONE
TZID:America/New_York
BEGIN:DAYLIGHT
TZOFFSETFROM:-0500
TZOFFSETTO:-0400
TZNAME:EDT
DTSTART:20240310T070000
END:DAYLIGHT
BEGIN:STANDARD
TZOFFSETFROM:-0400
TZOFFSETTO:-0500
TZNAME:EST
DTSTART:20241103T060000
END:STANDARD
BEGIN:DAYLIGHT
TZOFFSETFROM:-0500
TZOFFSETTO:-0400
TZNAME:EDT
DTSTART:20250309T070000
END:DAYLIGHT
BEGIN:STANDARD
TZOFFSETFROM:-0400
TZOFFSETTO:-0500
TZNAME:EST
DTSTART:20251102T060000
END:STANDARD
BEGIN:DAYLIGHT
TZOFFSETFROM:-0500
TZOFFSETTO:-0400
TZNAME:EDT
DTSTART:20260308T070000
END:DAYLIGHT
BEGIN:STANDARD
TZOFFSETFROM:-0400
TZOFFSETTO:-0500
TZNAME:EST
DTSTART:20261101T060000
END:STANDARD
END:VTIMEZONE
BEGIN:VEVENT
DTSTART;TZID=America/New_York:20251030T190000
DTEND;TZID=America/New_York:20251030T210000
DTSTAMP:20260421T205947
CREATED:20251003T181924Z
LAST-MODIFIED:20251003T181929Z
UID:10004607-1761850800-1761858000@qwf.org
SUMMARY:Two Rebeccas\, Two Books!
DESCRIPTION:Thursday\, October 30\, Argo Bookstore\, 1841-A Saint-Catherine St W\, Montreal\, 7:00 to 9:00 pm. Two Rebeccas\, Two Books! Rebecca Păpucaru will read from her novel As Good a Place as Any (Guernica Editions) in conversation with Rebecca Morris\, author of Other Maps (Linda Leith). Wine and goodies and books for sale!
URL:https://qwf.org/event/two-rebeccas-two-books/
LOCATION:Argo Bookshop\, 1841A Ste-Catherine St. West\, Montreal\, Quebec\, Canada
CATEGORIES:Book Launch,Reading
ATTACH;FMTTYPE=image/jpeg:https://qwf.org/wp-content/uploads/2025/10/556803058_18533207644006838_779215234882921681_n.jpg
END:VEVENT
END:VCALENDAR