BEGIN:VCALENDAR
VERSION:2.0
PRODID:-//Quebec Writers&#039; Federation - ECPv6.15.20//NONSGML v1.0//EN
CALSCALE:GREGORIAN
METHOD:PUBLISH
X-WR-CALNAME:Quebec Writers&#039; Federation
X-ORIGINAL-URL:https://qwf.org
X-WR-CALDESC:Events for Quebec Writers&#039; Federation
REFRESH-INTERVAL;VALUE=DURATION:PT1H
X-Robots-Tag:noindex
X-PUBLISHED-TTL:PT1H
BEGIN:VTIMEZONE
TZID:America/New_York
BEGIN:DAYLIGHT
TZOFFSETFROM:-0500
TZOFFSETTO:-0400
TZNAME:EDT
DTSTART:20240310T070000
END:DAYLIGHT
BEGIN:STANDARD
TZOFFSETFROM:-0400
TZOFFSETTO:-0500
TZNAME:EST
DTSTART:20241103T060000
END:STANDARD
BEGIN:DAYLIGHT
TZOFFSETFROM:-0500
TZOFFSETTO:-0400
TZNAME:EDT
DTSTART:20250309T070000
END:DAYLIGHT
BEGIN:STANDARD
TZOFFSETFROM:-0400
TZOFFSETTO:-0500
TZNAME:EST
DTSTART:20251102T060000
END:STANDARD
BEGIN:DAYLIGHT
TZOFFSETFROM:-0500
TZOFFSETTO:-0400
TZNAME:EDT
DTSTART:20260308T070000
END:DAYLIGHT
BEGIN:STANDARD
TZOFFSETFROM:-0400
TZOFFSETTO:-0500
TZNAME:EST
DTSTART:20261101T060000
END:STANDARD
END:VTIMEZONE
BEGIN:VEVENT
DTSTART;TZID=America/New_York:20251102T140000
DTEND;TZID=America/New_York:20251102T153000
DTSTAMP:20260422T122722
CREATED:20251003T035757Z
LAST-MODIFIED:20251003T035801Z
UID:10004603-1762092000-1762097400@qwf.org
SUMMARY:Book Launch for Gillian Sze\, Stephanie Bolster\, and Ronna Bloom
DESCRIPTION:Sunday\, November 2\, 20252:00–3:30 pm ET\n\n\n\nJoin us for a poetry book launch\, celebrating the release of An Orange\, a Syllable by Gillian Sze\, Long Exposure by Stephanie Bolster\, and In a Rip Tide by Ronna Bloom. \n\n\n\n\n\n\n\n\n\n\n\n\n\n\nRSVP on Eventbrite
URL:https://qwf.org/event/book-launch-for-gillian-sze-stephanie-bolster-and-ronna-bloom/
LOCATION:Librairie Paragraphe Bookstore\, 2220 McGill College Ave\, Montreal\, Quebec\, H3A 3P9\, Canada
CATEGORIES:Book Launch
ATTACH;FMTTYPE=image/jpeg:https://qwf.org/wp-content/uploads/2025/10/Paragraphe-Launch-poster-1.jpg
END:VEVENT
END:VCALENDAR