BEGIN:VCALENDAR
VERSION:2.0
PRODID:-//Quebec Writers&#039; Federation - ECPv6.15.20//NONSGML v1.0//EN
CALSCALE:GREGORIAN
METHOD:PUBLISH
X-ORIGINAL-URL:https://qwf.org
X-WR-CALDESC:Events for Quebec Writers&#039; Federation
REFRESH-INTERVAL;VALUE=DURATION:PT1H
X-Robots-Tag:noindex
X-PUBLISHED-TTL:PT1H
BEGIN:VTIMEZONE
TZID:America/New_York
BEGIN:DAYLIGHT
TZOFFSETFROM:-0500
TZOFFSETTO:-0400
TZNAME:EDT
DTSTART:20240310T070000
END:DAYLIGHT
BEGIN:STANDARD
TZOFFSETFROM:-0400
TZOFFSETTO:-0500
TZNAME:EST
DTSTART:20241103T060000
END:STANDARD
BEGIN:DAYLIGHT
TZOFFSETFROM:-0500
TZOFFSETTO:-0400
TZNAME:EDT
DTSTART:20250309T070000
END:DAYLIGHT
BEGIN:STANDARD
TZOFFSETFROM:-0400
TZOFFSETTO:-0500
TZNAME:EST
DTSTART:20251102T060000
END:STANDARD
BEGIN:DAYLIGHT
TZOFFSETFROM:-0500
TZOFFSETTO:-0400
TZNAME:EDT
DTSTART:20260308T070000
END:DAYLIGHT
BEGIN:STANDARD
TZOFFSETFROM:-0400
TZOFFSETTO:-0500
TZNAME:EST
DTSTART:20261101T060000
END:STANDARD
END:VTIMEZONE
BEGIN:VEVENT
DTSTART;TZID=America/New_York:20251102T140000
DTEND;TZID=America/New_York:20251102T153000
DTSTAMP:20260423T033826
CREATED:20251003T035757Z
LAST-MODIFIED:20251003T035801Z
UID:10004603-1762092000-1762097400@qwf.org
SUMMARY:Book Launch for Gillian Sze\, Stephanie Bolster\, and Ronna Bloom
DESCRIPTION:Sunday\, November 2\, 20252:00–3:30 pm ET\n\n\n\nJoin us for a poetry book launch\, celebrating the release of An Orange\, a Syllable by Gillian Sze\, Long Exposure by Stephanie Bolster\, and In a Rip Tide by Ronna Bloom. \n\n\n\n\n\n\n\n\n\n\n\n\n\n\nRSVP on Eventbrite
URL:https://qwf.org/event/book-launch-for-gillian-sze-stephanie-bolster-and-ronna-bloom/
LOCATION:Librairie Paragraphe Bookstore\, 2220 McGill College Ave\, Montreal\, Quebec\, H3A 3P9\, Canada
CATEGORIES:Book Launch
ATTACH;FMTTYPE=image/jpeg:https://qwf.org/wp-content/uploads/2025/10/Paragraphe-Launch-poster-1.jpg
END:VEVENT
BEGIN:VEVENT
DTSTART;TZID=America/New_York:20251104T200000
DTEND;TZID=America/New_York:20251104T233000
DTSTAMP:20260423T033826
CREATED:20251103T153620Z
LAST-MODIFIED:20251103T153625Z
UID:10004634-1762286400-1762299000@qwf.org
SUMMARY:NOIA Launch Party: Absurd Rituals
DESCRIPTION:Join NOIA’s first ever launch event in Canada\, celebrating the fourth issue of NOIA Magazine: Absurd Rituals.\nNOIA Launch: Absurd Rituals\nWe’re pleased to announce our first ever launch event in Canada\, celebrating the fourth issue of NOIA Magazine: Absurd Rituals. \nAbout this issue:\nThis issue investigates the tension between the internal logic and external perception of (absurd) rituals. A daughter\, raised within her father’s conspiratorial rituals\, experiences the tragic gap between belief and consequence. Computer overclockers engage in elaborate cooling ceremonies\, transforming functional necessity into obsessive craft. Presidential golf outings\, presented as leisure\, serve as carefully choreographed performances of power\, conducted across manicured landscapes with arcane codes of access. \nAbout this launch:\nIssues 2-4 will be available for purchase along with limited edition rings made by Ran.Den.Metal x NOIA. \nDJ sets brought to you by @mekashaaaa along with a custom cocktail menu by Jo Kolb. Hosted by Foster Gareau.
URL:https://qwf.org/event/noia-launch-party-absurd-rituals/
LOCATION:Le Système\, 7119 rue Saint-Hubert\, Montreal
CATEGORIES:Book Launch,Panel,Reading
ATTACH;FMTTYPE=image/jpeg:https://qwf.org/wp-content/uploads/2025/10/https___cdn.evbuc_.com_images_1155891223_2132281010593_1_original.jpeg
END:VEVENT
BEGIN:VEVENT
DTSTART;TZID=America/New_York:20251106T190000
DTEND;TZID=America/New_York:20251106T203000
DTSTAMP:20260423T033826
CREATED:20251003T035916Z
LAST-MODIFIED:20251003T035920Z
UID:10004604-1762455600-1762461000@qwf.org
SUMMARY:Black Creek by Susan Grundy\, Montreal Launch
DESCRIPTION:Thursday\, November 6\, 20257:00 pm ET\n\n\n\nAn intimate evening in a Griffintown speakeasy setting with author Susan Grundy in conversation with producer and musician Carrie Haber. \n\n\n\n\n\n\n\n\n\n\n\n\n\n\n\n\nRSvp ON EVENTBRITE
URL:https://qwf.org/event/black-creek-by-susan-grundy-montreal-launch/
LOCATION:Suite 301\, Le Petit Dep\, 290 Rue de la Montagne\, Montréal\, QC\, H3C 2B1\, Canada
CATEGORIES:Book Launch
ATTACH;FMTTYPE=image/jpeg:https://qwf.org/wp-content/uploads/2025/10/https___cdn.evbuc_.com_images_1136761283_259941020574_1_original-1.jpg
END:VEVENT
END:VCALENDAR