BEGIN:VCALENDAR
VERSION:2.0
PRODID:-//Quebec Writers&#039; Federation - ECPv6.15.20//NONSGML v1.0//EN
CALSCALE:GREGORIAN
METHOD:PUBLISH
X-ORIGINAL-URL:https://qwf.org
X-WR-CALDESC:Events for Quebec Writers&#039; Federation
REFRESH-INTERVAL;VALUE=DURATION:PT1H
X-Robots-Tag:noindex
X-PUBLISHED-TTL:PT1H
BEGIN:VTIMEZONE
TZID:America/New_York
BEGIN:DAYLIGHT
TZOFFSETFROM:-0500
TZOFFSETTO:-0400
TZNAME:EDT
DTSTART:20250309T070000
END:DAYLIGHT
BEGIN:STANDARD
TZOFFSETFROM:-0400
TZOFFSETTO:-0500
TZNAME:EST
DTSTART:20251102T060000
END:STANDARD
BEGIN:DAYLIGHT
TZOFFSETFROM:-0500
TZOFFSETTO:-0400
TZNAME:EDT
DTSTART:20260308T070000
END:DAYLIGHT
BEGIN:STANDARD
TZOFFSETFROM:-0400
TZOFFSETTO:-0500
TZNAME:EST
DTSTART:20261101T060000
END:STANDARD
BEGIN:DAYLIGHT
TZOFFSETFROM:-0500
TZOFFSETTO:-0400
TZNAME:EDT
DTSTART:20270314T070000
END:DAYLIGHT
BEGIN:STANDARD
TZOFFSETFROM:-0400
TZOFFSETTO:-0500
TZNAME:EST
DTSTART:20271107T060000
END:STANDARD
END:VTIMEZONE
BEGIN:VEVENT
DTSTART;TZID=America/New_York:20260325T190000
DTEND;TZID=America/New_York:20260325T190000
DTSTAMP:20260421T001243
CREATED:20260225T194517Z
LAST-MODIFIED:20260225T200825Z
UID:10004842-1774465200-1774465200@qwf.org
SUMMARY:Misha Solomon launches MY GREAT-GRANDFATHER DANCED BALLET
DESCRIPTION:Wednesday\, March 25\, 20267:00 pm ET\n\n\n\nJoin Misha Solomon in launching his highly-anticipated poetry debut\, My Great-Grandfather Danced Ballet at the Centre Culturel Georges-Vanier on March 25th at 7PM! Hosted by Sarah Burgoyne and featuring a performance by Nate Yaffe. Copies of the book will be available for purchase at the event. \n\n\n\n\n\n\n\n\n\n\n\n\n\n\n\n\nRSVP on Pulpbooks.ca
URL:https://qwf.org/event/misha-solomon-launches-my-great-grandfather-danced-ballet/
LOCATION:Centre Culturel Georges-Vanier\, 2450 rue Workman\, Montreal\, Canada
CATEGORIES:Book Launch,Reading
ATTACH;FMTTYPE=image/png:https://qwf.org/wp-content/uploads/2026/02/vers-2.png
END:VEVENT
END:VCALENDAR