BEGIN:VCALENDAR
VERSION:2.0
PRODID:-//Quebec Writers&#039; Federation - ECPv6.15.20//NONSGML v1.0//EN
CALSCALE:GREGORIAN
METHOD:PUBLISH
X-ORIGINAL-URL:https://qwf.org
X-WR-CALDESC:Events for Quebec Writers&#039; Federation
REFRESH-INTERVAL;VALUE=DURATION:PT1H
X-Robots-Tag:noindex
X-PUBLISHED-TTL:PT1H
BEGIN:VTIMEZONE
TZID:America/New_York
BEGIN:DAYLIGHT
TZOFFSETFROM:-0500
TZOFFSETTO:-0400
TZNAME:EDT
DTSTART:20240310T070000
END:DAYLIGHT
BEGIN:STANDARD
TZOFFSETFROM:-0400
TZOFFSETTO:-0500
TZNAME:EST
DTSTART:20241103T060000
END:STANDARD
BEGIN:DAYLIGHT
TZOFFSETFROM:-0500
TZOFFSETTO:-0400
TZNAME:EDT
DTSTART:20250309T070000
END:DAYLIGHT
BEGIN:STANDARD
TZOFFSETFROM:-0400
TZOFFSETTO:-0500
TZNAME:EST
DTSTART:20251102T060000
END:STANDARD
BEGIN:DAYLIGHT
TZOFFSETFROM:-0500
TZOFFSETTO:-0400
TZNAME:EDT
DTSTART:20260308T070000
END:DAYLIGHT
BEGIN:STANDARD
TZOFFSETFROM:-0400
TZOFFSETTO:-0500
TZNAME:EST
DTSTART:20261101T060000
END:STANDARD
END:VTIMEZONE
BEGIN:VEVENT
DTSTART;TZID=America/New_York:20250429T130000
DTEND;TZID=America/New_York:20250429T170000
DTSTAMP:20260425T081044
CREATED:20250404T204542Z
LAST-MODIFIED:20250404T204545Z
UID:10004276-1745931600-1745946000@qwf.org
SUMMARY:Business Skills for Creative Souls Artists’ Conference: Embrace Uncertainty and Create Opportunity
DESCRIPTION:Calling all Quebec artists: whether you paint\, sculpt\, perform\, write\, or explore creativity in other ways\, you’re invited to the Business Skills for Creative Souls Artists’ Conference: Embrace Uncertainty and Create Opportunity. \nJoin us on April 29 for an inspiring afternoon hosted by Sonali Karnick (CBC/Radio-Canada’s All in a Weekend)\, where we’ll explore how embracing the unknown can open new doors for your art and your career. \nYou’ll hear directly from working artists and arts professionals about the risks they’ve taken\, the challenges they’ve faced\, and how they’ve used change as a catalyst for growth. Whether you’re just starting out or are well-established\, this conference will help you find clarity and inspiration in times of uncertainty. \nHighlights include a keynote from Patrick Corrigan\, General Director of Opéra de Montréal\, plus practical sessions on SEO\, networking\, and grant writing. You’ll also hear from a panel of dynamic Quebec artists and have the chance to connect during a casual networking mixer. \nA post-conference debrief on May 1 with Artist Coach Caroline Gauthier offers space to reflect and continue the conversation. \nEarly Bird registration ends Friday\, April 11—save $10 when you register now. \nAttend in person or online. Presentations will be in English. \nRegister here: https://tinyurl.com/3f7cf2am
URL:https://qwf.org/event/business-skills-for-creative-souls-artists-conference-embrace-uncertainty-and-create-opportunity/
LOCATION:Unitarian Church of Montreal\, 5035 Boulevard de Maisonneuve Ouest\, Montreal\, QC\, Canada
CATEGORIES:Networking,Webinar
ATTACH;FMTTYPE=image/jpeg:https://qwf.org/wp-content/uploads/2025/04/ArtistsConference-Banner-April-2025-Eventbite-02.jpeg
END:VEVENT
END:VCALENDAR