BEGIN:VCALENDAR
VERSION:2.0
PRODID:-//Quebec Writers&#039; Federation - ECPv6.15.20//NONSGML v1.0//EN
CALSCALE:GREGORIAN
METHOD:PUBLISH
X-ORIGINAL-URL:https://qwf.org
X-WR-CALDESC:Events for Quebec Writers&#039; Federation
REFRESH-INTERVAL;VALUE=DURATION:PT1H
X-Robots-Tag:noindex
X-PUBLISHED-TTL:PT1H
BEGIN:VTIMEZONE
TZID:America/New_York
BEGIN:DAYLIGHT
TZOFFSETFROM:-0500
TZOFFSETTO:-0400
TZNAME:EDT
DTSTART:20240310T070000
END:DAYLIGHT
BEGIN:STANDARD
TZOFFSETFROM:-0400
TZOFFSETTO:-0500
TZNAME:EST
DTSTART:20241103T060000
END:STANDARD
BEGIN:DAYLIGHT
TZOFFSETFROM:-0500
TZOFFSETTO:-0400
TZNAME:EDT
DTSTART:20250309T070000
END:DAYLIGHT
BEGIN:STANDARD
TZOFFSETFROM:-0400
TZOFFSETTO:-0500
TZNAME:EST
DTSTART:20251102T060000
END:STANDARD
BEGIN:DAYLIGHT
TZOFFSETFROM:-0500
TZOFFSETTO:-0400
TZNAME:EDT
DTSTART:20260308T070000
END:DAYLIGHT
BEGIN:STANDARD
TZOFFSETFROM:-0400
TZOFFSETTO:-0500
TZNAME:EST
DTSTART:20261101T060000
END:STANDARD
END:VTIMEZONE
BEGIN:VEVENT
DTSTART;TZID=America/New_York:20251009T190000
DTEND;TZID=America/New_York:20251009T213000
DTSTAMP:20260423T195004
CREATED:20250926T174553Z
LAST-MODIFIED:20250926T174558Z
UID:10004599-1760036400-1760045400@qwf.org
SUMMARY:Soliloquies Anthology Open Mic & Fundraiser
DESCRIPTION:*Open to everyone\, not just students!\n*Sign up early at soliloquies.org/events-2 \nStep up to the mic and read your creative work for an audience of supportive fellow writers! Read your favourite (or least-favourite\, there’s no rules here) poetry\, fiction\, and creative non-fiction. Gain inspiration from the writers in your community. Buy a drink or three (please). You’ll have the opportunity to do all of this and more at the Soliloquies Anthology Fall 2025 Open Mic! \nAs well as being an exciting event to connect with your community of writers and readers\, this evening will also be dedicated to fundraising for this upcoming edition of Soliloquies Anthology. The money raised through this evening will go directly back into our printing costs\, as dramatic changes in our funding will likely impact the size and scope of our upcoming print issue. In short\, the more drinks you buy and the more you donate = the larger our page count can be = the better your chances to be published in Edition 30.1! \nDate and Time: October 9th at 19:00 \nLocation: Mes Pants De Queer\, 2025 Rue Parthenais\, Suite 241 \nCost of Entry: PWYC ($5 recommended donation)
URL:https://qwf.org/event/soliloquies-anthology-open-mic-fundraiser/
LOCATION:Mes Pants De Queer\, 2025 Rue Partenais\, suite 241\, montreal\, Ontario\, h4k1e2\, Canada
CATEGORIES:Networking,Open Mic,Performance,Reading,Storytelling
ATTACH;FMTTYPE=image/png:https://qwf.org/wp-content/uploads/2025/09/Screenshot-2025-09-26-at-11.33.21-AM.png
END:VEVENT
END:VCALENDAR