BEGIN:VCALENDAR
VERSION:2.0
PRODID:-//Quebec Writers&#039; Federation - ECPv6.15.20//NONSGML v1.0//EN
CALSCALE:GREGORIAN
METHOD:PUBLISH
X-WR-CALNAME:Quebec Writers&#039; Federation
X-ORIGINAL-URL:https://qwf.org
X-WR-CALDESC:Events for Quebec Writers&#039; Federation
REFRESH-INTERVAL;VALUE=DURATION:PT1H
X-Robots-Tag:noindex
X-PUBLISHED-TTL:PT1H
BEGIN:VTIMEZONE
TZID:America/New_York
BEGIN:DAYLIGHT
TZOFFSETFROM:-0500
TZOFFSETTO:-0400
TZNAME:EDT
DTSTART:20200308T070000
END:DAYLIGHT
BEGIN:STANDARD
TZOFFSETFROM:-0400
TZOFFSETTO:-0500
TZNAME:EST
DTSTART:20201101T060000
END:STANDARD
BEGIN:DAYLIGHT
TZOFFSETFROM:-0500
TZOFFSETTO:-0400
TZNAME:EDT
DTSTART:20210314T070000
END:DAYLIGHT
BEGIN:STANDARD
TZOFFSETFROM:-0400
TZOFFSETTO:-0500
TZNAME:EST
DTSTART:20211107T060000
END:STANDARD
BEGIN:DAYLIGHT
TZOFFSETFROM:-0500
TZOFFSETTO:-0400
TZNAME:EDT
DTSTART:20220313T070000
END:DAYLIGHT
BEGIN:STANDARD
TZOFFSETFROM:-0400
TZOFFSETTO:-0500
TZNAME:EST
DTSTART:20221106T060000
END:STANDARD
END:VTIMEZONE
BEGIN:VEVENT
DTSTART;TZID=America/New_York:20210408T123000
DTEND;TZID=America/New_York:20210408T133000
DTSTAMP:20260423T215350
CREATED:20210208T211147Z
LAST-MODIFIED:20210208T211147Z
UID:10002555-1617885000-1617888600@qwf.org
SUMMARY:Penning the Pandemic -- Atwater Library Lunchtime Series
DESCRIPTION:In advance of the book’s launch at the Blue Metropolis Literary Festival\, local writers present short pieces from Chronicling the Days\, the Quebec Writers’ Federation’s collection on life under the pandemic. Featuring Angela Leuck\, Carolyn Marie Souaid\, Greg Santos\, Joe Bongiorno\, and Nisha Coleman in conversation with Crystal Chan.
URL:https://qwf.org/event/penning-the-pandemic-atwater-library-lunchtime-series/
LOCATION:Zoom\, https://bit.ly/35akIGi
CATEGORIES:Community Events,Performance,QWF Events
ATTACH;FMTTYPE=image/jpeg:https://qwf.org/wp-content/uploads/2021/02/Chronicling.jpg
END:VEVENT
BEGIN:VEVENT
DTSTART;TZID=America/New_York:20210408T190000
DTEND;TZID=America/New_York:20210408T210000
DTSTAMP:20260423T215350
CREATED:20210315T143950Z
LAST-MODIFIED:20210315T143950Z
UID:10002584-1617908400-1617915600@qwf.org
SUMMARY:Argo Zoom Reading Series: Verse\, Prose & Song
DESCRIPTION:Argo Zoom Reading Series: Verse\, Prose & Song \nThursday April 8\, 2021     ||     7 PM to 9 PM    ||    Free \n  \nHosted by Adele-Elise Prevost & Moti Lieberman (514.931.3442) \nCurator Ilona Martonfi (ilona.martonfi@sympatico.ca) \n  \nFeaturing: \nDevon Gallant is the author of four poetry collections including S(tars) & M(agnets) which bill bissett called ‘a mirakul uv a book.’\n\nSusan Elmslie’s prize-winning poetry includes Museum of Kindness (Brick 2017) and I\, Nadja\, and Other Poems (Brick 2006). www.susan.elmslie.org\n\nIlona Martonfi is an editor\, poet\, curator & activist\, her most recent poetry book is Salt Bride (Inanna\, 2019). Forthcoming\, The Tempest (Inanna\, 2022).\n\nZsolt Alapi is an editor and publisher whose latest publication is his novel from DC Books\, Landscape with the Fall of Icarus.\n\nMichael Reinhart is a visual artist & musician\, with 5 albums\, numerous dance\, theatre & film scores to his credit since the early ‘80s.\n\nLady Rojas Benavente\, the author of Water Star (2017)\, is the president of the Canadian literary criticism of Hispanic American women writers.\n\nWillow Loveday Little is a writer and editor whose work appears in places like The Dalhousie Review\, On Spec\, and yolk.\n\nMatthew Rettino‘s poetry has recently appeared in Lantern Magazine‘s Dream issue this past January.\n\nTommy Schnurmacher is a broadcaster\, author\, humorist\, and raconteur. Main regret? Not having worked as performance artist.\n  \n  \nArgo Bookshop 1915 Ste. Catherine St. West \nhttps://www.argobookshop.ca/ \n  \nFacebook Link: https://fb.me/e/icTIhbewx \n  \nPlease email events@argobookshop.ca for the Zoom link
URL:https://qwf.org/event/argo-zoom-reading-series-verse-prose-song-6/
LOCATION:Online via Zoom
CATEGORIES:Community Events,Performance
ATTACH;FMTTYPE=image/jpeg:https://qwf.org/wp-content/uploads/2021/03/Logo.jpg
END:VEVENT
END:VCALENDAR