BEGIN:VCALENDAR
VERSION:2.0
PRODID:-//Quebec Writers&#039; Federation - ECPv6.15.20//NONSGML v1.0//EN
CALSCALE:GREGORIAN
METHOD:PUBLISH
X-ORIGINAL-URL:https://qwf.org
X-WR-CALDESC:Events for Quebec Writers&#039; Federation
REFRESH-INTERVAL;VALUE=DURATION:PT1H
X-Robots-Tag:noindex
X-PUBLISHED-TTL:PT1H
BEGIN:VTIMEZONE
TZID:America/New_York
BEGIN:DAYLIGHT
TZOFFSETFROM:-0500
TZOFFSETTO:-0400
TZNAME:EDT
DTSTART:20200308T070000
END:DAYLIGHT
BEGIN:STANDARD
TZOFFSETFROM:-0400
TZOFFSETTO:-0500
TZNAME:EST
DTSTART:20201101T060000
END:STANDARD
BEGIN:DAYLIGHT
TZOFFSETFROM:-0500
TZOFFSETTO:-0400
TZNAME:EDT
DTSTART:20210314T070000
END:DAYLIGHT
BEGIN:STANDARD
TZOFFSETFROM:-0400
TZOFFSETTO:-0500
TZNAME:EST
DTSTART:20211107T060000
END:STANDARD
BEGIN:DAYLIGHT
TZOFFSETFROM:-0500
TZOFFSETTO:-0400
TZNAME:EDT
DTSTART:20220313T070000
END:DAYLIGHT
BEGIN:STANDARD
TZOFFSETFROM:-0400
TZOFFSETTO:-0500
TZNAME:EST
DTSTART:20221106T060000
END:STANDARD
END:VTIMEZONE
BEGIN:VEVENT
DTSTART;TZID=America/New_York:20210410T134500
DTEND;TZID=America/New_York:20210410T144500
DTSTAMP:20260419T090604
CREATED:20210412T172816Z
LAST-MODIFIED:20210412T172842Z
UID:10002611-1618062300-1618065900@qwf.org
SUMMARY:Café Québec - Je me souviens
DESCRIPTION:Four poets from Canada share their journey between the Two Solitudes (Endre Farkas\, Hélène Dorion\, Carolyn Marie Souaid\, and Alain Cuerrier) as part of the 5th edition of the Sierra Poetry Festival. \nSierra Poetry Festival is an international festival marking National Poetry Month from the rolling foothills of California’s Gold Country to the rugged High Sierra\, bringing a rich literary community together to celebrate the spoken word. This year\, (themed “Re-membering” ) the virtual festival features some of the most exciting poets\, musicians\, literary critics\, and presenters from across the world for an interdisciplinary experience that engages audiences globally. All events\, including workshops\, are FREE\, but REGISTRATION is required. Visit sierrapoetryfestival.org for details.
URL:https://qwf.org/event/cafe-quebec-je-me-souviens/
LOCATION:Online via Zoom
CATEGORIES:Community Events,Performance
ATTACH;FMTTYPE=image/png:https://qwf.org/wp-content/uploads/2021/04/sierra.png
END:VEVENT
END:VCALENDAR