BEGIN:VCALENDAR
VERSION:2.0
PRODID:-//Quebec Writers&#039; Federation - ECPv6.15.20//NONSGML v1.0//EN
CALSCALE:GREGORIAN
METHOD:PUBLISH
X-WR-CALNAME:Quebec Writers&#039; Federation
X-ORIGINAL-URL:https://qwf.org
X-WR-CALDESC:Events for Quebec Writers&#039; Federation
REFRESH-INTERVAL;VALUE=DURATION:PT1H
X-Robots-Tag:noindex
X-PUBLISHED-TTL:PT1H
BEGIN:VTIMEZONE
TZID:America/New_York
BEGIN:DAYLIGHT
TZOFFSETFROM:-0500
TZOFFSETTO:-0400
TZNAME:EDT
DTSTART:20200308T070000
END:DAYLIGHT
BEGIN:STANDARD
TZOFFSETFROM:-0400
TZOFFSETTO:-0500
TZNAME:EST
DTSTART:20201101T060000
END:STANDARD
BEGIN:DAYLIGHT
TZOFFSETFROM:-0500
TZOFFSETTO:-0400
TZNAME:EDT
DTSTART:20210314T070000
END:DAYLIGHT
BEGIN:STANDARD
TZOFFSETFROM:-0400
TZOFFSETTO:-0500
TZNAME:EST
DTSTART:20211107T060000
END:STANDARD
BEGIN:DAYLIGHT
TZOFFSETFROM:-0500
TZOFFSETTO:-0400
TZNAME:EDT
DTSTART:20220313T070000
END:DAYLIGHT
BEGIN:STANDARD
TZOFFSETFROM:-0400
TZOFFSETTO:-0500
TZNAME:EST
DTSTART:20221106T060000
END:STANDARD
END:VTIMEZONE
BEGIN:VEVENT
DTSTART;TZID=America/New_York:20210321T100000
DTEND;TZID=America/New_York:20210321T120000
DTSTAMP:20260421T200650
CREATED:20210315T192507Z
LAST-MODIFIED:20210316T142456Z
UID:10002587-1616320800-1616328000@qwf.org
SUMMARY:PIWWC Global Poetry Zoom: Free the Word!
DESCRIPTION:You are invited to a GLOBAL POETRY Zoom!!\n\nWhen: Mar 21\, 2021 10:00 AM Montreal\n\nPIWWC Global Poetry Zoom: Free the Word!\nEmpowering Women’s Voices:\nPoems of Celebration\, Solidarity & Longing!\n\nPlease Register in Advance for this Webinar:\nhttps://us02web.zoom.us/…/reg…/WN_1m1tsRQiQBeC5vFq_k3uLw\nAfter registering\, you will receive a confirmation email containing information about joining the webinar.\nThank you!!! See you HERE!!!!
URL:https://qwf.org/event/piwwc-global-poetry-zoom-free-the-word/
LOCATION:Online via Zoom
CATEGORIES:Community Events,Performance
ATTACH;FMTTYPE=image/png:https://qwf.org/wp-content/uploads/2021/03/Empowering-Womens-Voices-Poetry-Zoom.png
ORGANIZER;CN="PEN International Women Writers Committee":MAILTO:info@piwwc.org
END:VEVENT
BEGIN:VEVENT
DTSTART;TZID=America/New_York:20210324T200000
DTEND;TZID=America/New_York:20210324T220000
DTSTAMP:20260421T200650
CREATED:20210316T141541Z
LAST-MODIFIED:20210316T141541Z
UID:10002588-1616616000-1616623200@qwf.org
SUMMARY:"As on a Holiday" by Bryan Sentes\, Cactus Press Chapbook Launch (+ Open Mic)
DESCRIPTION:The Accent Reading Series is happy to announce the launch event for Bryan Sentes‘ new chapbook “As on a Holiday” through Cactus Press on March 24th @ 8pm. This event will be followed with an open mic. \n 
URL:https://qwf.org/event/as-on-a-holiday-by-bryan-sentes-cactus-press-chapbook-launch-open-mic/
LOCATION:Online via Zoom
CATEGORIES:Community Events,Open Mic,Performance
ATTACH;FMTTYPE=image/jpeg:https://qwf.org/wp-content/uploads/2021/03/As-on-a-holiday.jpg
END:VEVENT
BEGIN:VEVENT
DTSTART;TZID=America/New_York:20210325T190000
DTEND;TZID=America/New_York:20210325T210000
DTSTAMP:20260421T200650
CREATED:20210312T152749Z
LAST-MODIFIED:20210312T152749Z
UID:10002580-1616698800-1616706000@qwf.org
SUMMARY:SpeakUp: The Indomitable Irishry
DESCRIPTION:Poets: Kelly Norah Drukker\, Jim Olwell\, Rachel McCrum \nA POETRY READING WITH A DIFFERENCE: AUDIENCE ENGAGEMENT\nEach audience member receives a copy of the poems\nPoet reads poems\, followed by 15 to 20-minute discussion on the poem\nPoet reads poem a final time \nContact us to register and receive the Zoom link: MTLSpeakUp@gmail.com
URL:https://qwf.org/event/speakup-the-indomitable-irishry/
LOCATION:Online via Zoom
CATEGORIES:Performance
ATTACH;FMTTYPE=image/png:https://qwf.org/wp-content/uploads/2021/03/SpeakUp_logo_newsletter.png
END:VEVENT
END:VCALENDAR