BEGIN:VCALENDAR
VERSION:2.0
PRODID:-//Quebec Writers&#039; Federation - ECPv6.15.20//NONSGML v1.0//EN
CALSCALE:GREGORIAN
METHOD:PUBLISH
X-WR-CALNAME:Quebec Writers&#039; Federation
X-ORIGINAL-URL:https://qwf.org
X-WR-CALDESC:Events for Quebec Writers&#039; Federation
REFRESH-INTERVAL;VALUE=DURATION:PT1H
X-Robots-Tag:noindex
X-PUBLISHED-TTL:PT1H
BEGIN:VTIMEZONE
TZID:America/New_York
BEGIN:DAYLIGHT
TZOFFSETFROM:-0500
TZOFFSETTO:-0400
TZNAME:EDT
DTSTART:20230312T070000
END:DAYLIGHT
BEGIN:STANDARD
TZOFFSETFROM:-0400
TZOFFSETTO:-0500
TZNAME:EST
DTSTART:20231105T060000
END:STANDARD
BEGIN:DAYLIGHT
TZOFFSETFROM:-0500
TZOFFSETTO:-0400
TZNAME:EDT
DTSTART:20240310T070000
END:DAYLIGHT
BEGIN:STANDARD
TZOFFSETFROM:-0400
TZOFFSETTO:-0500
TZNAME:EST
DTSTART:20241103T060000
END:STANDARD
BEGIN:DAYLIGHT
TZOFFSETFROM:-0500
TZOFFSETTO:-0400
TZNAME:EDT
DTSTART:20250309T070000
END:DAYLIGHT
BEGIN:STANDARD
TZOFFSETFROM:-0400
TZOFFSETTO:-0500
TZNAME:EST
DTSTART:20251102T060000
END:STANDARD
END:VTIMEZONE
BEGIN:VEVENT
DTSTART;TZID=America/New_York:20240321T120000
DTEND;TZID=America/New_York:20240321T130000
DTSTAMP:20260420T161956
CREATED:20240219T153734Z
LAST-MODIFIED:20240223T175607Z
UID:10003743-1711022400-1711026000@qwf.org
SUMMARY:Meet the Authors – Sandra Cohen-Rose and Ann Lambert
DESCRIPTION:Sandra Cohen-Rose and Ann Lambert will introduce their latest novels and discuss the ethical and social justice concerns they weave through their works – Climate Change\, Antisemitism\, White Supremacy\, and Women’s Rights.\nAnn Lambert\, author of the critically acclaimed Russell and Leduc Mystery Series\, The Birds That Stay\, The Dogs of Winter\, and Whale Fall\, has been writing\, directing\, and producing for the theatre for 40 years\, most recently with her Montreal-based company\, Theatre Ouest End. She retired after 30 years of teaching at Dawson College and is the former head of the playwriting program at the National Theatre School of Canada. Ann is also the vice president of The Theresa Foundation.\nSandra Cohen-Rose\, author of Waskaganish\, hailed as a “Multi-Faceted Feast\, a cleverly contrived\, fast-paced story…” and its compelling sequel\, Dangerous Dancing-A Saga of Love\, Deceit and New Beginning\, is a passionate storyteller who seamlessly weaves through her stories her ethical and social justice concerns cultivated during her 15-year tenure on the McGill University Medical Ethics … presiding over the Montreal and the National Council of Women of Canada\, and as a Dietitian-Nutritionist. She is the author of two well-received non-fiction books.
URL:https://qwf.org/event/meet-the-authors-sandra-cohen-rose-and-ann-lambert/
CATEGORIES:Storytelling
ATTACH;FMTTYPE=image/jpeg:https://qwf.org/wp-content/uploads/2024/02/Authors-and-social-issues-SCR-and-Ann-Lambert_page-0001.jpg
END:VEVENT
END:VCALENDAR