BEGIN:VCALENDAR
VERSION:2.0
PRODID:-//Quebec Writers&#039; Federation - ECPv6.15.20//NONSGML v1.0//EN
CALSCALE:GREGORIAN
METHOD:PUBLISH
X-ORIGINAL-URL:https://qwf.org
X-WR-CALDESC:Events for Quebec Writers&#039; Federation
REFRESH-INTERVAL;VALUE=DURATION:PT1H
X-Robots-Tag:noindex
X-PUBLISHED-TTL:PT1H
BEGIN:VTIMEZONE
TZID:America/New_York
BEGIN:DAYLIGHT
TZOFFSETFROM:-0500
TZOFFSETTO:-0400
TZNAME:EDT
DTSTART:20250309T070000
END:DAYLIGHT
BEGIN:STANDARD
TZOFFSETFROM:-0400
TZOFFSETTO:-0500
TZNAME:EST
DTSTART:20251102T060000
END:STANDARD
BEGIN:DAYLIGHT
TZOFFSETFROM:-0500
TZOFFSETTO:-0400
TZNAME:EDT
DTSTART:20260308T070000
END:DAYLIGHT
BEGIN:STANDARD
TZOFFSETFROM:-0400
TZOFFSETTO:-0500
TZNAME:EST
DTSTART:20261101T060000
END:STANDARD
BEGIN:DAYLIGHT
TZOFFSETFROM:-0500
TZOFFSETTO:-0400
TZNAME:EDT
DTSTART:20270314T070000
END:DAYLIGHT
BEGIN:STANDARD
TZOFFSETFROM:-0400
TZOFFSETTO:-0500
TZNAME:EST
DTSTART:20271107T060000
END:STANDARD
END:VTIMEZONE
BEGIN:VEVENT
DTSTART;TZID=America/New_York:20260516T110000
DTEND;TZID=America/New_York:20260525T120000
DTSTAMP:20260422T235250
CREATED:20250717T141455Z
LAST-MODIFIED:20250718T182743Z
UID:10004425-1778929200-1779710400@qwf.org
SUMMARY:Writers' Retreat: Doolin\, Ireland May 2026
DESCRIPTION:Join a small group of writers in various genres for our second retreat to Doolin\, Ireland. 10 days\, 9 nights with writing workshops with memoir and prose writer Kerri Ní Dochartaigh\, poet Nikki Griffin\, poet Grace Wells\, and creative nonfiction writer Ryan Dennis; field trips to the largest Aran Island\, the Burren\, and the cliffs of Moher. Depending on room type\, prices range from $2400USD-$2900USD (and USD are not as far off from CAD as they used to be). Includes lodging\, 2 meals per day (except first day (welcome dinner) and last day (breakfast); and all activities. Does not include alcohol\, or airfare. Limited to 10 participants at any stage of their writing career. \n\n\n\nRetreat website: https://www.nature-culture.net/ireland-retreat-2026 \n\n\n\nWe had a great time this year; see photos: https://photos.app.goo.gl/X2E2ATaUNz4EQ2Zw6 \n\n\n\nHope you can join us! \n\n\n\n\n\nStart:May 16\, 2026\, 4:00 pm UTC/London Time \n\n\n\nEnd:May 25\, 2026\, 10:00 am UTC/London Time \n\n\nEvent Category: Festival\, Panel\n\n\nVenue: Doolin\, Ireland — Doolin\, County Clare Ireland\, View Venue Website
URL:https://qwf.org/event/writers-retreat-doolin-ireland-may-2026/
LOCATION:Quebec
CATEGORIES:Retreat
ATTACH;FMTTYPE=image/jpeg:https://qwf.org/wp-content/uploads/2025/07/Ireland-2026-ver1-landscape.jpg
END:VEVENT
BEGIN:VEVENT
DTSTART;TZID=America/New_York:20260520T190000
DTEND;TZID=America/New_York:20260524T210000
DTSTAMP:20260422T235250
CREATED:20260420T225915Z
LAST-MODIFIED:20260420T225915Z
UID:10004934-1779303600-1779656400@qwf.org
SUMMARY:Colors in the Night
DESCRIPTION:Colours in the Night: A Living Tapestry of Stories\nStep into a world where stories don’t just unfold… they are chosen. \nColours in the Night is a mesmerizing 90-minute theatrical experience inspired by the timeless storytelling tradition of Nezami\, where fate shifts nightly and with it the performances themselves. \nGuided by five enigmatic storytellers\, the Ladies of White\, Red\, Blue\, Gold\, and Green\, the audience becomes part of the magic. Each night\, you help decide which three of the five tales will be brought to life. To witness them all\, you’ll have to return… again and again. \nCome once\, and you’ll glimpse a story. Come again… and you’ll uncover the whole night. \nFor any questions don’t hesitate to email us at Therisetheatre@gmail.com \nThis show is inappropriate for children under the age of 10
URL:https://qwf.org/event/colors-in-the-night/2026-05-20/
LOCATION:Salle Paul Buissonneau\, 3819 Av. Calixa-Lavallée\, Montreal\, Quebec\, H2L 3A7\, Canada
CATEGORIES:Performance
ATTACH;FMTTYPE=image/jpeg:https://qwf.org/wp-content/uploads/2026/04/Poster-final.jpg
END:VEVENT
BEGIN:VEVENT
DTSTART;TZID=America/New_York:20260521T190000
DTEND;TZID=America/New_York:20260525T210000
DTSTAMP:20260422T235250
CREATED:20260420T225915Z
LAST-MODIFIED:20260420T225915Z
UID:10004935-1779390000-1779742800@qwf.org
SUMMARY:Colors in the Night
DESCRIPTION:Colours in the Night: A Living Tapestry of Stories\nStep into a world where stories don’t just unfold… they are chosen. \nColours in the Night is a mesmerizing 90-minute theatrical experience inspired by the timeless storytelling tradition of Nezami\, where fate shifts nightly and with it the performances themselves. \nGuided by five enigmatic storytellers\, the Ladies of White\, Red\, Blue\, Gold\, and Green\, the audience becomes part of the magic. Each night\, you help decide which three of the five tales will be brought to life. To witness them all\, you’ll have to return… again and again. \nCome once\, and you’ll glimpse a story. Come again… and you’ll uncover the whole night. \nFor any questions don’t hesitate to email us at Therisetheatre@gmail.com \nThis show is inappropriate for children under the age of 10
URL:https://qwf.org/event/colors-in-the-night/2026-05-21/
LOCATION:Salle Paul Buissonneau\, 3819 Av. Calixa-Lavallée\, Montreal\, Quebec\, H2L 3A7\, Canada
CATEGORIES:Performance
ATTACH;FMTTYPE=image/jpeg:https://qwf.org/wp-content/uploads/2026/04/Poster-final.jpg
END:VEVENT
BEGIN:VEVENT
DTSTART;TZID=America/New_York:20260522T190000
DTEND;TZID=America/New_York:20260526T210000
DTSTAMP:20260422T235250
CREATED:20260420T225915Z
LAST-MODIFIED:20260420T225915Z
UID:10004936-1779476400-1779829200@qwf.org
SUMMARY:Colors in the Night
DESCRIPTION:Colours in the Night: A Living Tapestry of Stories\nStep into a world where stories don’t just unfold… they are chosen. \nColours in the Night is a mesmerizing 90-minute theatrical experience inspired by the timeless storytelling tradition of Nezami\, where fate shifts nightly and with it the performances themselves. \nGuided by five enigmatic storytellers\, the Ladies of White\, Red\, Blue\, Gold\, and Green\, the audience becomes part of the magic. Each night\, you help decide which three of the five tales will be brought to life. To witness them all\, you’ll have to return… again and again. \nCome once\, and you’ll glimpse a story. Come again… and you’ll uncover the whole night. \nFor any questions don’t hesitate to email us at Therisetheatre@gmail.com \nThis show is inappropriate for children under the age of 10
URL:https://qwf.org/event/colors-in-the-night/2026-05-22/
LOCATION:Salle Paul Buissonneau\, 3819 Av. Calixa-Lavallée\, Montreal\, Quebec\, H2L 3A7\, Canada
CATEGORIES:Performance
ATTACH;FMTTYPE=image/jpeg:https://qwf.org/wp-content/uploads/2026/04/Poster-final.jpg
END:VEVENT
BEGIN:VEVENT
DTSTART;TZID=America/New_York:20260523T190000
DTEND;TZID=America/New_York:20260527T210000
DTSTAMP:20260422T235250
CREATED:20260420T225915Z
LAST-MODIFIED:20260420T225915Z
UID:10004937-1779562800-1779915600@qwf.org
SUMMARY:Colors in the Night
DESCRIPTION:Colours in the Night: A Living Tapestry of Stories\nStep into a world where stories don’t just unfold… they are chosen. \nColours in the Night is a mesmerizing 90-minute theatrical experience inspired by the timeless storytelling tradition of Nezami\, where fate shifts nightly and with it the performances themselves. \nGuided by five enigmatic storytellers\, the Ladies of White\, Red\, Blue\, Gold\, and Green\, the audience becomes part of the magic. Each night\, you help decide which three of the five tales will be brought to life. To witness them all\, you’ll have to return… again and again. \nCome once\, and you’ll glimpse a story. Come again… and you’ll uncover the whole night. \nFor any questions don’t hesitate to email us at Therisetheatre@gmail.com \nThis show is inappropriate for children under the age of 10
URL:https://qwf.org/event/colors-in-the-night/2026-05-23/
LOCATION:Salle Paul Buissonneau\, 3819 Av. Calixa-Lavallée\, Montreal\, Quebec\, H2L 3A7\, Canada
CATEGORIES:Performance
ATTACH;FMTTYPE=image/jpeg:https://qwf.org/wp-content/uploads/2026/04/Poster-final.jpg
END:VEVENT
BEGIN:VEVENT
DTSTART;TZID=America/New_York:20260524T190000
DTEND;TZID=America/New_York:20260528T210000
DTSTAMP:20260422T235250
CREATED:20260420T225915Z
LAST-MODIFIED:20260420T225915Z
UID:10004938-1779649200-1780002000@qwf.org
SUMMARY:Colors in the Night
DESCRIPTION:Colours in the Night: A Living Tapestry of Stories\nStep into a world where stories don’t just unfold… they are chosen. \nColours in the Night is a mesmerizing 90-minute theatrical experience inspired by the timeless storytelling tradition of Nezami\, where fate shifts nightly and with it the performances themselves. \nGuided by five enigmatic storytellers\, the Ladies of White\, Red\, Blue\, Gold\, and Green\, the audience becomes part of the magic. Each night\, you help decide which three of the five tales will be brought to life. To witness them all\, you’ll have to return… again and again. \nCome once\, and you’ll glimpse a story. Come again… and you’ll uncover the whole night. \nFor any questions don’t hesitate to email us at Therisetheatre@gmail.com \nThis show is inappropriate for children under the age of 10
URL:https://qwf.org/event/colors-in-the-night/2026-05-24/
LOCATION:Salle Paul Buissonneau\, 3819 Av. Calixa-Lavallée\, Montreal\, Quebec\, H2L 3A7\, Canada
CATEGORIES:Performance
ATTACH;FMTTYPE=image/jpeg:https://qwf.org/wp-content/uploads/2026/04/Poster-final.jpg
END:VEVENT
BEGIN:VEVENT
DTSTART;TZID=America/New_York:20260525T190000
DTEND;TZID=America/New_York:20260529T210000
DTSTAMP:20260422T235250
CREATED:20260420T225915Z
LAST-MODIFIED:20260420T225915Z
UID:10004939-1779735600-1780088400@qwf.org
SUMMARY:Colors in the Night
DESCRIPTION:Colours in the Night: A Living Tapestry of Stories\nStep into a world where stories don’t just unfold… they are chosen. \nColours in the Night is a mesmerizing 90-minute theatrical experience inspired by the timeless storytelling tradition of Nezami\, where fate shifts nightly and with it the performances themselves. \nGuided by five enigmatic storytellers\, the Ladies of White\, Red\, Blue\, Gold\, and Green\, the audience becomes part of the magic. Each night\, you help decide which three of the five tales will be brought to life. To witness them all\, you’ll have to return… again and again. \nCome once\, and you’ll glimpse a story. Come again… and you’ll uncover the whole night. \nFor any questions don’t hesitate to email us at Therisetheatre@gmail.com \nThis show is inappropriate for children under the age of 10
URL:https://qwf.org/event/colors-in-the-night/2026-05-25/
LOCATION:Salle Paul Buissonneau\, 3819 Av. Calixa-Lavallée\, Montreal\, Quebec\, H2L 3A7\, Canada
CATEGORIES:Performance
ATTACH;FMTTYPE=image/jpeg:https://qwf.org/wp-content/uploads/2026/04/Poster-final.jpg
END:VEVENT
BEGIN:VEVENT
DTSTART;TZID=America/New_York:20260526T190000
DTEND;TZID=America/New_York:20260530T210000
DTSTAMP:20260422T235250
CREATED:20260420T225915Z
LAST-MODIFIED:20260420T225915Z
UID:10004940-1779822000-1780174800@qwf.org
SUMMARY:Colors in the Night
DESCRIPTION:Colours in the Night: A Living Tapestry of Stories\nStep into a world where stories don’t just unfold… they are chosen. \nColours in the Night is a mesmerizing 90-minute theatrical experience inspired by the timeless storytelling tradition of Nezami\, where fate shifts nightly and with it the performances themselves. \nGuided by five enigmatic storytellers\, the Ladies of White\, Red\, Blue\, Gold\, and Green\, the audience becomes part of the magic. Each night\, you help decide which three of the five tales will be brought to life. To witness them all\, you’ll have to return… again and again. \nCome once\, and you’ll glimpse a story. Come again… and you’ll uncover the whole night. \nFor any questions don’t hesitate to email us at Therisetheatre@gmail.com \nThis show is inappropriate for children under the age of 10
URL:https://qwf.org/event/colors-in-the-night/2026-05-26/
LOCATION:Salle Paul Buissonneau\, 3819 Av. Calixa-Lavallée\, Montreal\, Quebec\, H2L 3A7\, Canada
CATEGORIES:Performance
ATTACH;FMTTYPE=image/jpeg:https://qwf.org/wp-content/uploads/2026/04/Poster-final.jpg
END:VEVENT
BEGIN:VEVENT
DTSTART;TZID=America/New_York:20260528T170000
DTEND;TZID=America/New_York:20260528T190000
DTSTAMP:20260422T235250
CREATED:20260407T142322Z
LAST-MODIFIED:20260407T142403Z
UID:10004905-1779987600-1779994800@qwf.org
SUMMARY:Book Launch: Wanted: Your House by Monique Polak
DESCRIPTION:Librairie Paragraphe Bookstore and McNally Robinson present a book launch for Wanted: Your House by Monique Polak \nJoin us as author Monique Polak signs and discusses her new book Wanted: Your House \nAdmission is free. \nRefreshments will be served. \nAbout the Book\nA resourceful twelve-year-old comes up with an unusual real estate plan in this moving middle-grade novel about what it means to have\, and make\, a family. \nCyril’s mom has been dragging him to open houses for as long as he can remember. It’s been her dream that one day the two of them will have a house of their own. So\, when she decides she’ll never find one they can afford\, Cyril is relieved\, but also sad for her. Which leads him to an idea: What if they moved in with an older person living alone who needs companionship and housekeeping? And what if that person then leaves the house to his mom in their will? It’s a big “what if.” But one elderly gentleman named Mr. Hartt actually seems open to it. Could this grouchy\, stubborn old man be their dream come true? Or will he turn out to be their worst nightmare? \nAward-winning author Monique Polak has written a highly readable novel that sensitively explores the idea of found family and alternative family structures. Readers will appreciate how the novel’s lovable protagonist\, Cyril\, has caring relationships with his mom\, his best friend and his friend’s family (refugees from the war in Ukraine)\, while also feeling normal middle-grade insecurities and frustrations as he tries to navigate the changes in his and his friend’s family’s lives. The book offers excellent lessons on adaptability and tolerance. The story’s focus on older people (Cyril is originally inspired by a school assignment to interview older adults) offers an opportunity for conversations about aging\, and could inspire readers to cultivate their own intergenerational relationships and learn more about the older people in their lives. \nAbout the Author\nMonique Polak is a journalist and writing instructor. She is a three-time winner of the Quebec Writers’ Federation Prize for Children’s and YA Literature\, recently renamed the QWF Janet Savage Blachford Prize for Children’s and Young Adult Literature. In 2016\, Monique was the CBC/Quebec Writers’ Federation inaugural writer-in-residence. She lives in Montreal\, Quebec.
URL:https://qwf.org/event/book-launch-wanted-your-house-by-monique-polak/
LOCATION:Librairie Paragraphe Bookstore\, 2220 McGill College Ave\, Montreal\, Quebec\, H3A 3P9\, Canada
CATEGORIES:Book Launch
ATTACH;FMTTYPE=image/jpeg:https://qwf.org/wp-content/uploads/2026/04/649841822_1635486924698710_5359903067013265967_n.jpg
END:VEVENT
END:VCALENDAR