BEGIN:VCALENDAR
VERSION:2.0
PRODID:-//Quebec Writers&#039; Federation - ECPv6.15.20//NONSGML v1.0//EN
CALSCALE:GREGORIAN
METHOD:PUBLISH
X-ORIGINAL-URL:https://qwf.org
X-WR-CALDESC:Events for Quebec Writers&#039; Federation
REFRESH-INTERVAL;VALUE=DURATION:PT1H
X-Robots-Tag:noindex
X-PUBLISHED-TTL:PT1H
BEGIN:VTIMEZONE
TZID:America/New_York
BEGIN:DAYLIGHT
TZOFFSETFROM:-0500
TZOFFSETTO:-0400
TZNAME:EDT
DTSTART:20210314T070000
END:DAYLIGHT
BEGIN:STANDARD
TZOFFSETFROM:-0400
TZOFFSETTO:-0500
TZNAME:EST
DTSTART:20211107T060000
END:STANDARD
BEGIN:DAYLIGHT
TZOFFSETFROM:-0500
TZOFFSETTO:-0400
TZNAME:EDT
DTSTART:20220313T070000
END:DAYLIGHT
BEGIN:STANDARD
TZOFFSETFROM:-0400
TZOFFSETTO:-0500
TZNAME:EST
DTSTART:20221106T060000
END:STANDARD
BEGIN:DAYLIGHT
TZOFFSETFROM:-0500
TZOFFSETTO:-0400
TZNAME:EDT
DTSTART:20230312T070000
END:DAYLIGHT
BEGIN:STANDARD
TZOFFSETFROM:-0400
TZOFFSETTO:-0500
TZNAME:EST
DTSTART:20231105T060000
END:STANDARD
END:VTIMEZONE
BEGIN:VEVENT
DTSTART;TZID=America/New_York:20221008T100000
DTEND;TZID=America/New_York:20221008T123000
DTSTAMP:20260425T104639
CREATED:20221005T145403Z
LAST-MODIFIED:20221005T145406Z
UID:10003062-1665223200-1665232200@qwf.org
SUMMARY:Shut Up & Write! with QWF
DESCRIPTION:Looking for some dedicated\, quiet writing space? \n\n\n\nRegister below to do all that writing you’ve been meaning to do in the (virtual) company of fellow writers! Using the Pomodoro technique\, participants write in 25-minute bursts\, with 5 minutes break in between. \n\n\n\nThis event is for QWF members only. You have to be signed in to the website in order to see the registration options. Not a member? Learn about becoming a member. (Please contact Riley at riley@qwf.org if you are having difficulties registering) \n\n\n\nPlease note that these sessions are designed for silent writing\, rather than discussing or getting feedback on work. \n\n\n\n1000 – 1025: Writing 11025 – 1030: Break1030 – 1055: Writing 21055 – 1100: Break1100 – 1125: Writing 31125 – 1130: Break1130 – 1155: Writing 41155 – 1200: Break1200 -1225: Writing 5\n\n\n\nNote: Only 12 people are admitted per session. Due to high demand\, you must reserve your seat in advance. RSVPs will open exactly one week before each session (i.e.\, every other Saturday).
URL:https://qwf.org/event/shut-up-write-10/
LOCATION:QC
CATEGORIES:Community Events,QWF Events,Shut Up & Write!
ATTACH;FMTTYPE=image/png:https://qwf.org/wp-content/uploads/2021/04/Shut-Up-Write.png
END:VEVENT
END:VCALENDAR