BEGIN:VCALENDAR
VERSION:2.0
PRODID:-//Quebec Writers&#039; Federation - ECPv6.15.20//NONSGML v1.0//EN
CALSCALE:GREGORIAN
METHOD:PUBLISH
X-ORIGINAL-URL:https://qwf.org
X-WR-CALDESC:Events for Quebec Writers&#039; Federation
REFRESH-INTERVAL;VALUE=DURATION:PT1H
X-Robots-Tag:noindex
X-PUBLISHED-TTL:PT1H
BEGIN:VTIMEZONE
TZID:America/New_York
BEGIN:DAYLIGHT
TZOFFSETFROM:-0500
TZOFFSETTO:-0400
TZNAME:EDT
DTSTART:20210314T070000
END:DAYLIGHT
BEGIN:STANDARD
TZOFFSETFROM:-0400
TZOFFSETTO:-0500
TZNAME:EST
DTSTART:20211107T060000
END:STANDARD
BEGIN:DAYLIGHT
TZOFFSETFROM:-0500
TZOFFSETTO:-0400
TZNAME:EDT
DTSTART:20220313T070000
END:DAYLIGHT
BEGIN:STANDARD
TZOFFSETFROM:-0400
TZOFFSETTO:-0500
TZNAME:EST
DTSTART:20221106T060000
END:STANDARD
BEGIN:DAYLIGHT
TZOFFSETFROM:-0500
TZOFFSETTO:-0400
TZNAME:EDT
DTSTART:20230312T070000
END:DAYLIGHT
BEGIN:STANDARD
TZOFFSETFROM:-0400
TZOFFSETTO:-0500
TZNAME:EST
DTSTART:20231105T060000
END:STANDARD
END:VTIMEZONE
BEGIN:VEVENT
DTSTART;TZID=America/New_York:20221022T140000
DTEND;TZID=America/New_York:20221022T170000
DTSTAMP:20260423T025004
CREATED:20221007T153635Z
LAST-MODIFIED:20221017T162314Z
UID:10003150-1666447200-1666458000@qwf.org
SUMMARY:QWF Member Meetup
DESCRIPTION:The Quebec Writers’ Federation is inviting members and friends for a social event at the Mordecai Richler Gazebo on October 22 Saturday\, 2pm \n\n\n\nIt has been a busy year for English writers in Quebec: Our writing workshops filled up quickly; this year’s QWF Awards received more submissions than ever before\, and the team is preparing our first fully in-person Awards Gala since 2019. \n\n\n\nWe want to celebrate our successes with the greater literary community\, while lso introducing a new batch of QWF members. Please join us on October 22\, Saturday\, at 2:00 p.m. at the Mordecai Richler Gazebo\, Parc du Mont-Royal\, 4060 Park Avenue. Light refreshments will be provided\, but please bring your own drinks. \n\n\n\nCatch up with old friends and make new ones! \n\n\n\nBring a Buddy! This event is free for both QWF members and the public. QWF staff and board members will be present to answer questions about the organization. We are always happy to welcome new folks into the organization. \n\n\n\nThe Sixty-Second Spotlight. Inspired by ELAN’s Minute Market\, QWF members who want to promote their recent work (book\, play\, etc.) will be given exactly sixty seconds to pitch it to the entire group! Interested in participating? It’s free\, but you have to bring a door prize (a copy of your book\, for example) to the event. Email Riley (riley@qwf.org) to be put on the presenting list. \n\n\n\n+ SURPRISES! + \n\n\n\nDATE: SATURDAY\, OCTOBER 22 AT 2:00 PM \n\n\n\nRAIN DATE: SUNDAY\, OCTOBER 23 AT 2:00 PM
URL:https://qwf.org/event/qwf-member-meetup/
LOCATION:Mordecai Richler Gazebo\, 4060 Park Ave\, Montreal\, Quebec\, H2W 1S8\, Canada
CATEGORIES:Community Events,Member Meetup,QWF Events
ATTACH;FMTTYPE=image/jpeg:https://qwf.org/wp-content/uploads/2022/10/evangelina-silina-BzLUmuRDMWE-unsplash-scaled.jpg
END:VEVENT
END:VCALENDAR