BEGIN:VCALENDAR
VERSION:2.0
PRODID:-//Quebec Writers&#039; Federation - ECPv6.15.20//NONSGML v1.0//EN
CALSCALE:GREGORIAN
METHOD:PUBLISH
X-WR-CALNAME:Quebec Writers&#039; Federation
X-ORIGINAL-URL:https://qwf.org
X-WR-CALDESC:Events for Quebec Writers&#039; Federation
REFRESH-INTERVAL;VALUE=DURATION:PT1H
X-Robots-Tag:noindex
X-PUBLISHED-TTL:PT1H
BEGIN:VTIMEZONE
TZID:America/New_York
BEGIN:DAYLIGHT
TZOFFSETFROM:-0500
TZOFFSETTO:-0400
TZNAME:EDT
DTSTART:20230312T070000
END:DAYLIGHT
BEGIN:STANDARD
TZOFFSETFROM:-0400
TZOFFSETTO:-0500
TZNAME:EST
DTSTART:20231105T060000
END:STANDARD
BEGIN:DAYLIGHT
TZOFFSETFROM:-0500
TZOFFSETTO:-0400
TZNAME:EDT
DTSTART:20240310T070000
END:DAYLIGHT
BEGIN:STANDARD
TZOFFSETFROM:-0400
TZOFFSETTO:-0500
TZNAME:EST
DTSTART:20241103T060000
END:STANDARD
BEGIN:DAYLIGHT
TZOFFSETFROM:-0500
TZOFFSETTO:-0400
TZNAME:EDT
DTSTART:20250309T070000
END:DAYLIGHT
BEGIN:STANDARD
TZOFFSETFROM:-0400
TZOFFSETTO:-0500
TZNAME:EST
DTSTART:20251102T060000
END:STANDARD
END:VTIMEZONE
BEGIN:VEVENT
DTSTART;TZID=America/New_York:20241207T170000
DTEND;TZID=America/New_York:20241207T190000
DTSTAMP:20260421T012224
CREATED:20241120T160817Z
LAST-MODIFIED:20241120T160822Z
UID:10004064-1733590800-1733598000@qwf.org
SUMMARY:Opening Cocktail
DESCRIPTION:Saturday\, December 7 20245 pm–7 pm ET\n\n\n\nA very special edition of the Read Quebec Book Fair’s 5 à 7. Come have a drink at the end of an exciting day of book browsing and literary events. Meet public historian\, artist and educator Cassandra Marsillo\, author of Dalla valigia alla tavola\, an oral history of Montreal immigrants from the Italian region of Molise\, complete with 40 recipes – and enjoy Molisan antipasti created from the book’s recipes. This event is also a “Super Schmoozer” bringing together members of the Quebec Writers’ Federation\, the Writers’ Union of Canada\, Quebec chapter\, and the English-language Arts Network. Chat about books\, writing\, and the delicious food! Everyone is welcome. \n\n\n\n\n\n\n\n\n\n\n\n\n\n\nRead Quebec Book Fair: All Events
URL:https://qwf.org/event/opening-cocktail/
LOCATION:Casa d’Italia\, 505 Rue Jean-Talon Est\, Montreal\, Quebec\, H2R 1T6\, Canada
CATEGORIES:Member Meetup,Networking,QWF Events,Read Quebec Book Fair
ATTACH;FMTTYPE=image/png:https://qwf.org/wp-content/uploads/2024/11/ReadQuebec-Opening-Cocktail.png
END:VEVENT
END:VCALENDAR