BEGIN:VCALENDAR
VERSION:2.0
PRODID:-//Quebec Writers&#039; Federation - ECPv6.15.20//NONSGML v1.0//EN
CALSCALE:GREGORIAN
METHOD:PUBLISH
X-WR-CALNAME:Quebec Writers&#039; Federation
X-ORIGINAL-URL:https://qwf.org
X-WR-CALDESC:Events for Quebec Writers&#039; Federation
REFRESH-INTERVAL;VALUE=DURATION:PT1H
X-Robots-Tag:noindex
X-PUBLISHED-TTL:PT1H
BEGIN:VTIMEZONE
TZID:America/New_York
BEGIN:DAYLIGHT
TZOFFSETFROM:-0500
TZOFFSETTO:-0400
TZNAME:EDT
DTSTART:20210314T070000
END:DAYLIGHT
BEGIN:STANDARD
TZOFFSETFROM:-0400
TZOFFSETTO:-0500
TZNAME:EST
DTSTART:20211107T060000
END:STANDARD
BEGIN:DAYLIGHT
TZOFFSETFROM:-0500
TZOFFSETTO:-0400
TZNAME:EDT
DTSTART:20220313T070000
END:DAYLIGHT
BEGIN:STANDARD
TZOFFSETFROM:-0400
TZOFFSETTO:-0500
TZNAME:EST
DTSTART:20221106T060000
END:STANDARD
BEGIN:DAYLIGHT
TZOFFSETFROM:-0500
TZOFFSETTO:-0400
TZNAME:EDT
DTSTART:20230312T070000
END:DAYLIGHT
BEGIN:STANDARD
TZOFFSETFROM:-0400
TZOFFSETTO:-0500
TZNAME:EST
DTSTART:20231105T060000
END:STANDARD
END:VTIMEZONE
BEGIN:VEVENT
DTSTART;TZID=America/New_York:20221123T133000
DTEND;TZID=America/New_York:20221123T143000
DTSTAMP:20260421T174101
CREATED:20221101T180914Z
LAST-MODIFIED:20221116T194606Z
UID:10003163-1669210200-1669213800@qwf.org
SUMMARY:Writing Beyond the Mother Tongue
DESCRIPTION:Join us for a panel discussion on what it means to write in a language other than one’s mother tongue\, the benefits and challenges of doing so\, and how this affects the work and the writer’s relationship to language overall. \n\n\n\nHost: \n\n\n\nSherry Simon\, author and translator \n\n\n\nParticipants:Oana Avasilichioaei\, author and translatorBaharan Baniahmadi\, authorSylvain Neuvel\, author \n\n\n\n\n\n\n\nWednesday\, November 23rd at 1:30pm (60 min) on the Espace littéraire stage.
URL:https://qwf.org/event/writing-beyond-the-mother-tongue/
LOCATION:Palais des congrès de Montréal\, 1001 Jean Paul Riopelle Pl\, Montreal\, Quebec\, H2Z1H5\, Canada
CATEGORIES:Community Events,QWF Events
ATTACH;FMTTYPE=image/jpeg:https://qwf.org/wp-content/uploads/2022/11/Writing-Beyond-the-Mother-Tongue.jpg
END:VEVENT
BEGIN:VEVENT
DTSTART;TZID=America/New_York:20221125T170000
DTEND;TZID=America/New_York:20221125T174500
DTSTAMP:20260421T174101
CREATED:20221101T181150Z
LAST-MODIFIED:20221116T194608Z
UID:10003164-1669395600-1669398300@qwf.org
SUMMARY:Translating English Quebec
DESCRIPTION:Join us for a panel discussion with English-to-French translators and the authors of the original books on the importance of translating English Quebec literature into French\, the challenges of the translation process\, and the influence of the two literatures on each other. \n\n\n\nHost: \n\n\n\nAntoine Tanguay\, Founder and Director of Publishing\, Éditions Alto \n\n\n\nParticipants: \n\n\n\nRachel McCrum\, author \n\n\n\nJonathan Lamy\, translator and author \n\n\n\nMarcela Huerta\, author \n\n\n\nDaphné B.\, translator and author \n\n\n\nFriday\, November 25th at 5PM (45 minutes) on the Agora stage. 
URL:https://qwf.org/event/translating-english-quebec/
LOCATION:Palais des congrès de Montréal\, 1001 Jean Paul Riopelle Pl\, Montreal\, Quebec\, H2Z1H5\, Canada
CATEGORIES:Community Events,QWF Events
ATTACH;FMTTYPE=image/jpeg:https://qwf.org/wp-content/uploads/2022/11/Translating-English-Quebec.jpg
END:VEVENT
END:VCALENDAR